BEGIN:VCALENDAR
VERSION:2.0
PRODID:-//The Kodachrome Babies - ECPv6.15.20//NONSGML v1.0//EN
CALSCALE:GREGORIAN
METHOD:PUBLISH
X-ORIGINAL-URL:https://kodachromebabies.com
X-WR-CALDESC:Events for The Kodachrome Babies
REFRESH-INTERVAL;VALUE=DURATION:PT1H
X-Robots-Tag:noindex
X-PUBLISHED-TTL:PT1H
BEGIN:VTIMEZONE
TZID:America/New_York
BEGIN:DAYLIGHT
TZOFFSETFROM:-0500
TZOFFSETTO:-0400
TZNAME:EDT
DTSTART:20180311T070000
END:DAYLIGHT
BEGIN:STANDARD
TZOFFSETFROM:-0400
TZOFFSETTO:-0500
TZNAME:EST
DTSTART:20181104T060000
END:STANDARD
BEGIN:DAYLIGHT
TZOFFSETFROM:-0500
TZOFFSETTO:-0400
TZNAME:EDT
DTSTART:20190310T070000
END:DAYLIGHT
BEGIN:STANDARD
TZOFFSETFROM:-0400
TZOFFSETTO:-0500
TZNAME:EST
DTSTART:20191103T060000
END:STANDARD
BEGIN:DAYLIGHT
TZOFFSETFROM:-0500
TZOFFSETTO:-0400
TZNAME:EDT
DTSTART:20200308T070000
END:DAYLIGHT
BEGIN:STANDARD
TZOFFSETFROM:-0400
TZOFFSETTO:-0500
TZNAME:EST
DTSTART:20201101T060000
END:STANDARD
END:VTIMEZONE
BEGIN:VEVENT
DTSTART;TZID=America/New_York:20190807T180000
DTEND;TZID=America/New_York:20190807T200000
DTSTAMP:20260425T135843
CREATED:20190528T102243Z
LAST-MODIFIED:20190528T102243Z
UID:1565-1565200800-1565208000@kodachromebabies.com
SUMMARY:Tuscarawas Valley Farmers Market
DESCRIPTION:
URL:https://kodachromebabies.com/event/tuscarawas-valley-farmers-market-13/
LOCATION:Tuscarawas County Fairgrounds\, 259 South Tuscarawas Avenue\, Dover\, OH\, 44622\, United States
END:VEVENT
BEGIN:VEVENT
DTSTART;TZID=America/New_York:20190817T160000
DTEND;TZID=America/New_York:20190817T170000
DTSTAMP:20260425T135843
CREATED:20190807T004554Z
LAST-MODIFIED:20190807T004554Z
UID:1576-1566057600-1566061200@kodachromebabies.com
SUMMARY:PorchRokr 2019
DESCRIPTION:
URL:https://kodachromebabies.com/event/porchrokr-2019/
LOCATION:38 Hawthorne\, 38 Hawthorne Avenue\, Akron\, OH\, 44622\, United States
END:VEVENT
BEGIN:VEVENT
DTSTART;TZID=America/New_York:20190823T193000
DTEND;TZID=America/New_York:20190823T203000
DTSTAMP:20260425T135843
CREATED:20190822T023215Z
LAST-MODIFIED:20190822T023215Z
UID:1583-1566588600-1566592200@kodachromebabies.com
SUMMARY:Kent State PAC
DESCRIPTION:
URL:https://kodachromebabies.com/event/kent-state-pac-6/
LOCATION:Kent State Performing Arts Center\, 545 University Drive NE\, New Philadelphia\, OH\, 44663\, United States
END:VEVENT
BEGIN:VEVENT
DTSTART;TZID=America/New_York:20190824T130000
DTEND;TZID=America/New_York:20190824T140000
DTSTAMP:20260425T135843
CREATED:20190328T205130Z
LAST-MODIFIED:20190328T205130Z
UID:1540-1566651600-1566655200@kodachromebabies.com
SUMMARY:17:10 Market
DESCRIPTION:17:10 Market held at the pavilion behind the Sugarcreek Fire Station. Click here for details: https://1710market.com/the-market.html
URL:https://kodachromebabies.com/event/1710-market/
LOCATION:Sugarcreek Pavilion\, 152 N. Broadway\, Sugarcreek\, OH\, 44681\, United States
END:VEVENT
BEGIN:VEVENT
DTSTART;TZID=America/New_York:20190824T180000
DTEND;TZID=America/New_York:20190824T210000
DTSTAMP:20260425T135843
CREATED:20190321T132611Z
LAST-MODIFIED:20190321T132611Z
UID:1528-1566669600-1566680400@kodachromebabies.com
SUMMARY:Breitenbach Wine Cellars
DESCRIPTION:
URL:https://kodachromebabies.com/event/breitenbach-wine-cellars-4/
LOCATION:Breitenbach Wine Cellars\, 5934 Old Route 39 NW\, Dover\, OH\, 44622\, United States
END:VEVENT
END:VCALENDAR