BEGIN:VCALENDAR
VERSION:2.0
PRODID:-//The Kodachrome Babies - ECPv6.15.20//NONSGML v1.0//EN
CALSCALE:GREGORIAN
METHOD:PUBLISH
X-WR-CALNAME:The Kodachrome Babies
X-ORIGINAL-URL:https://kodachromebabies.com
X-WR-CALDESC:Events for The Kodachrome Babies
REFRESH-INTERVAL;VALUE=DURATION:PT1H
X-Robots-Tag:noindex
X-PUBLISHED-TTL:PT1H
BEGIN:VTIMEZONE
TZID:America/New_York
BEGIN:DAYLIGHT
TZOFFSETFROM:-0500
TZOFFSETTO:-0400
TZNAME:EDT
DTSTART:20180311T070000
END:DAYLIGHT
BEGIN:STANDARD
TZOFFSETFROM:-0400
TZOFFSETTO:-0500
TZNAME:EST
DTSTART:20181104T060000
END:STANDARD
BEGIN:DAYLIGHT
TZOFFSETFROM:-0500
TZOFFSETTO:-0400
TZNAME:EDT
DTSTART:20190310T070000
END:DAYLIGHT
BEGIN:STANDARD
TZOFFSETFROM:-0400
TZOFFSETTO:-0500
TZNAME:EST
DTSTART:20191103T060000
END:STANDARD
BEGIN:DAYLIGHT
TZOFFSETFROM:-0500
TZOFFSETTO:-0400
TZNAME:EDT
DTSTART:20200308T070000
END:DAYLIGHT
BEGIN:STANDARD
TZOFFSETFROM:-0400
TZOFFSETTO:-0500
TZNAME:EST
DTSTART:20201101T060000
END:STANDARD
END:VTIMEZONE
BEGIN:VEVENT
DTSTART;TZID=America/New_York:20190706T180000
DTEND;TZID=America/New_York:20190706T210000
DTSTAMP:20260425T122008
CREATED:20190321T132422Z
LAST-MODIFIED:20190321T132422Z
UID:1526-1562436000-1562446800@kodachromebabies.com
SUMMARY:Breitenbach Wine Cellars
DESCRIPTION:
URL:https://kodachromebabies.com/event/breitenbach-wine-cellars-3/
LOCATION:Breitenbach Wine Cellars\, 5934 Old Route 39 NW\, Dover\, OH\, 44622\, United States
END:VEVENT
BEGIN:VEVENT
DTSTART;TZID=America/New_York:20190720T200000
DTEND;TZID=America/New_York:20190720T220000
DTSTAMP:20260425T122008
CREATED:20190328T202949Z
LAST-MODIFIED:20190328T202949Z
UID:1535-1563652800-1563660000@kodachromebabies.com
SUMMARY:Lockport Brewery
DESCRIPTION:
URL:https://kodachromebabies.com/event/lockport-brewery-2/
LOCATION:Lockport Brewery\, 10891 OH-212\, Bolivar\, OH\, 44612\, United States
END:VEVENT
BEGIN:VEVENT
DTSTART;TZID=America/New_York:20190726T190000
DTEND;TZID=America/New_York:20190726T220000
DTSTAMP:20260425T122008
CREATED:20190103T210220Z
LAST-MODIFIED:20190103T210220Z
UID:1482-1564167600-1564178400@kodachromebabies.com
SUMMARY:Sunny Slope Winery
DESCRIPTION:
URL:https://kodachromebabies.com/event/sunny-slope-winery/
LOCATION:Sunny Slope Winery\, 12251 OH-39\, Big Prairie\, OH\, 44611\, United States
END:VEVENT
BEGIN:VEVENT
DTSTART;TZID=America/New_York:20190727T200000
DTEND;TZID=America/New_York:20190727T220000
DTSTAMP:20260425T122008
CREATED:20190122T044054Z
LAST-MODIFIED:20190122T044054Z
UID:1497-1564257600-1564264800@kodachromebabies.com
SUMMARY:School House Winery
DESCRIPTION:
URL:https://kodachromebabies.com/event/school-house-winery-12/
LOCATION:School House Winery\, 455 Schneiders Crossing Rd NW\, Dover\, OH\, 44622\, United States
END:VEVENT
END:VCALENDAR