BEGIN:VCALENDAR
VERSION:2.0
PRODID:-//The Kodachrome Babies - ECPv6.15.20//NONSGML v1.0//EN
CALSCALE:GREGORIAN
METHOD:PUBLISH
X-WR-CALNAME:The Kodachrome Babies
X-ORIGINAL-URL:https://kodachromebabies.com
X-WR-CALDESC:Events for The Kodachrome Babies
REFRESH-INTERVAL;VALUE=DURATION:PT1H
X-Robots-Tag:noindex
X-PUBLISHED-TTL:PT1H
BEGIN:VTIMEZONE
TZID:America/New_York
BEGIN:DAYLIGHT
TZOFFSETFROM:-0500
TZOFFSETTO:-0400
TZNAME:EDT
DTSTART:20170312T070000
END:DAYLIGHT
BEGIN:STANDARD
TZOFFSETFROM:-0400
TZOFFSETTO:-0500
TZNAME:EST
DTSTART:20171105T060000
END:STANDARD
BEGIN:DAYLIGHT
TZOFFSETFROM:-0500
TZOFFSETTO:-0400
TZNAME:EDT
DTSTART:20180311T070000
END:DAYLIGHT
BEGIN:STANDARD
TZOFFSETFROM:-0400
TZOFFSETTO:-0500
TZNAME:EST
DTSTART:20181104T060000
END:STANDARD
BEGIN:DAYLIGHT
TZOFFSETFROM:-0500
TZOFFSETTO:-0400
TZNAME:EDT
DTSTART:20190310T070000
END:DAYLIGHT
BEGIN:STANDARD
TZOFFSETFROM:-0400
TZOFFSETTO:-0500
TZNAME:EST
DTSTART:20191103T060000
END:STANDARD
END:VTIMEZONE
BEGIN:VEVENT
DTSTART;TZID=America/New_York:20181006T200000
DTEND;TZID=America/New_York:20181006T220000
DTSTAMP:20260424T222352
CREATED:20180227T020502Z
LAST-MODIFIED:20180227T020502Z
UID:1366-1538856000-1538863200@kodachromebabies.com
SUMMARY:School House Winery
DESCRIPTION:
URL:https://kodachromebabies.com/event/school-house-winery-8/
LOCATION:School House Winery\, 455 Schneiders Crossing Rd NW\, Dover\, OH\, 44622\, United States
END:VEVENT
BEGIN:VEVENT
DTSTART;TZID=America/New_York:20181020T130000
DTEND;TZID=America/New_York:20181020T150000
DTSTAMP:20260424T222352
CREATED:20180806T193547Z
LAST-MODIFIED:20180806T193547Z
UID:1421-1540040400-1540047600@kodachromebabies.com
SUMMARY:Kidron Beet Festival at Sonnenberg Village
DESCRIPTION:
URL:https://kodachromebabies.com/event/kidron-beet-festival-at-sonnenberg-village/
LOCATION:Sonnenberg Village\, 13497 Hackett Rd\, Apple Creek\, OH\, 44606\, United States
END:VEVENT
BEGIN:VEVENT
DTSTART;TZID=America/New_York:20181030T193000
DTEND;TZID=America/New_York:20181030T203000
DTSTAMP:20260424T222352
CREATED:20180917T011638Z
LAST-MODIFIED:20180917T011638Z
UID:1438-1540927800-1540931400@kodachromebabies.com
SUMMARY:Kent State PAC Lobby
DESCRIPTION:
URL:https://kodachromebabies.com/event/kent-state-pac-lobby-3/
LOCATION:Kent State Performing Arts Center\, 545 University Drive NE\, New Philadelphia\, OH\, 44663\, United States
END:VEVENT
END:VCALENDAR