BEGIN:VCALENDAR
VERSION:2.0
PRODID:-//The Kodachrome Babies - ECPv6.15.20//NONSGML v1.0//EN
CALSCALE:GREGORIAN
METHOD:PUBLISH
X-WR-CALNAME:The Kodachrome Babies
X-ORIGINAL-URL:https://kodachromebabies.com
X-WR-CALDESC:Events for The Kodachrome Babies
REFRESH-INTERVAL;VALUE=DURATION:PT1H
X-Robots-Tag:noindex
X-PUBLISHED-TTL:PT1H
BEGIN:VTIMEZONE
TZID:America/New_York
BEGIN:DAYLIGHT
TZOFFSETFROM:-0500
TZOFFSETTO:-0400
TZNAME:EDT
DTSTART:20160313T070000
END:DAYLIGHT
BEGIN:STANDARD
TZOFFSETFROM:-0400
TZOFFSETTO:-0500
TZNAME:EST
DTSTART:20161106T060000
END:STANDARD
BEGIN:DAYLIGHT
TZOFFSETFROM:-0500
TZOFFSETTO:-0400
TZNAME:EDT
DTSTART:20170312T070000
END:DAYLIGHT
BEGIN:STANDARD
TZOFFSETFROM:-0400
TZOFFSETTO:-0500
TZNAME:EST
DTSTART:20171105T060000
END:STANDARD
BEGIN:DAYLIGHT
TZOFFSETFROM:-0500
TZOFFSETTO:-0400
TZNAME:EDT
DTSTART:20180311T070000
END:DAYLIGHT
BEGIN:STANDARD
TZOFFSETFROM:-0400
TZOFFSETTO:-0500
TZNAME:EST
DTSTART:20181104T060000
END:STANDARD
END:VTIMEZONE
BEGIN:VEVENT
DTSTART;TZID=America/New_York:20171208T190000
DTEND;TZID=America/New_York:20171208T200000
DTSTAMP:20260424T062541
CREATED:20171129T033908Z
LAST-MODIFIED:20171129T042245Z
UID:1327-1512759600-1512763200@kodachromebabies.com
SUMMARY:The Ezekiel Project's Winter Bazaar/Artist Meet & Greet
DESCRIPTION:Join The Ezekiel Project in downtown New Philadelphia for their first Winter Bazaar and Artist Meet & Greet on Friday\, December 8th. The doors will open at 5:00pm\, and we’ll provide live festive music starting at 7:00pm. The event will feature holiday fun for the whole family\, including many FREE activities and goodies! For details\, visit the event page on Facebook. Come get into the holiday spirit with us!
URL:https://kodachromebabies.com/event/the-ezekiel-projects-winter-bazaarartist-meet-greet/
END:VEVENT
END:VCALENDAR