BEGIN:VCALENDAR
VERSION:2.0
PRODID:-//The Kodachrome Babies - ECPv6.15.20//NONSGML v1.0//EN
CALSCALE:GREGORIAN
METHOD:PUBLISH
X-WR-CALNAME:The Kodachrome Babies
X-ORIGINAL-URL:https://kodachromebabies.com
X-WR-CALDESC:Events for The Kodachrome Babies
REFRESH-INTERVAL;VALUE=DURATION:PT1H
X-Robots-Tag:noindex
X-PUBLISHED-TTL:PT1H
BEGIN:VTIMEZONE
TZID:America/New_York
BEGIN:DAYLIGHT
TZOFFSETFROM:-0500
TZOFFSETTO:-0400
TZNAME:EDT
DTSTART:20160313T070000
END:DAYLIGHT
BEGIN:STANDARD
TZOFFSETFROM:-0400
TZOFFSETTO:-0500
TZNAME:EST
DTSTART:20161106T060000
END:STANDARD
BEGIN:DAYLIGHT
TZOFFSETFROM:-0500
TZOFFSETTO:-0400
TZNAME:EDT
DTSTART:20170312T070000
END:DAYLIGHT
BEGIN:STANDARD
TZOFFSETFROM:-0400
TZOFFSETTO:-0500
TZNAME:EST
DTSTART:20171105T060000
END:STANDARD
BEGIN:DAYLIGHT
TZOFFSETFROM:-0500
TZOFFSETTO:-0400
TZNAME:EDT
DTSTART:20180311T070000
END:DAYLIGHT
BEGIN:STANDARD
TZOFFSETFROM:-0400
TZOFFSETTO:-0500
TZNAME:EST
DTSTART:20181104T060000
END:STANDARD
END:VTIMEZONE
BEGIN:VEVENT
DTSTART;TZID=America/New_York:20170805T213000
DTEND;TZID=America/New_York:20170805T223000
DTSTAMP:20260424T014647
CREATED:20170613T011855Z
LAST-MODIFIED:20170613T012140Z
UID:1266-1501968600-1501972200@kodachromebabies.com
SUMMARY:Run for Gnome 2017
DESCRIPTION:Join the Kodachrome Babies for Run for Gnome 2017 on Saturday\, August 5th at Park Street Pizza in Sugarcreek! This annual charity celebration put together to help a local family in need will feature tunes by your favorite sister duo from 8:30 to 9:30 p.m.\, but come early to hear our friends from Valleytown play right before us from 7:30 to 8:30 p.m.! This year’s race will benefit Kaisonn Lescalett\, a little boy with the rare disorder Hurler’s Syndrome. If you’d like to get involved\, find out more details here.
URL:https://kodachromebabies.com/event/run-for-gnome-2017/
LOCATION:Park Street Pizza\, 215 Dover Rd\, Sugarcreek\, OH\, 44681\, United States
END:VEVENT
BEGIN:VEVENT
DTSTART;TZID=America/New_York:20170810T200000
DTEND;TZID=America/New_York:20170810T220000
DTSTAMP:20260424T014647
CREATED:20170416T233419Z
LAST-MODIFIED:20170416T233419Z
UID:1182-1502395200-1502402400@kodachromebabies.com
SUMMARY:Orrville Performing Arts Summer Concert Series
DESCRIPTION:The Babes are headed to Orrville this summer as a guest in the Orrville Performing Arts Summer Concert Series! Join us on Thursday\, August 10th from 7:00 to 9:00 p.m. at the Rehm Performing Arts Pavilion at Orr Park and enjoy a summer evening with your favorite sister duo.
URL:https://kodachromebabies.com/event/orrville-performing-arts-summer-concert-series/
LOCATION:Rehm Performing Arts Pavilion\, 440 N. Elm Street\, Orrville\, OH\, 44667\, United States
END:VEVENT
BEGIN:VEVENT
DTSTART;TZID=America/New_York:20170818T200000
DTEND;TZID=America/New_York:20170818T230000
DTSTAMP:20260424T014647
CREATED:20170501T011615Z
LAST-MODIFIED:20170509T194048Z
UID:1198-1503086400-1503097200@kodachromebabies.com
SUMMARY:Camp Tuscazoar Adventure Race
DESCRIPTION:The Babes are schedules to play at the First Annual Tuscazoar Adventure Race on Friday\, August 18th from 7:00 to 10:00 p.m. Stay tuned for more details on this first-time event!
URL:https://kodachromebabies.com/event/camp-tuscazoar-adventure-race/
LOCATION:Camp Tuscazoar\, 6066 Boy Scout Rd NE\, Dover\, OH\, 44622\, United States
END:VEVENT
END:VCALENDAR