BEGIN:VCALENDAR
VERSION:2.0
PRODID:-//The Kodachrome Babies - ECPv6.15.20//NONSGML v1.0//EN
CALSCALE:GREGORIAN
METHOD:PUBLISH
X-ORIGINAL-URL:https://kodachromebabies.com
X-WR-CALDESC:Events for The Kodachrome Babies
REFRESH-INTERVAL;VALUE=DURATION:PT1H
X-Robots-Tag:noindex
X-PUBLISHED-TTL:PT1H
BEGIN:VTIMEZONE
TZID:America/New_York
BEGIN:DAYLIGHT
TZOFFSETFROM:-0500
TZOFFSETTO:-0400
TZNAME:EDT
DTSTART:20150308T070000
END:DAYLIGHT
BEGIN:STANDARD
TZOFFSETFROM:-0400
TZOFFSETTO:-0500
TZNAME:EST
DTSTART:20151101T060000
END:STANDARD
BEGIN:DAYLIGHT
TZOFFSETFROM:-0500
TZOFFSETTO:-0400
TZNAME:EDT
DTSTART:20160313T070000
END:DAYLIGHT
BEGIN:STANDARD
TZOFFSETFROM:-0400
TZOFFSETTO:-0500
TZNAME:EST
DTSTART:20161106T060000
END:STANDARD
BEGIN:DAYLIGHT
TZOFFSETFROM:-0500
TZOFFSETTO:-0400
TZNAME:EDT
DTSTART:20170312T070000
END:DAYLIGHT
BEGIN:STANDARD
TZOFFSETFROM:-0400
TZOFFSETTO:-0500
TZNAME:EST
DTSTART:20171105T060000
END:STANDARD
END:VTIMEZONE
BEGIN:VEVENT
DTSTART;TZID=America/New_York:20161203T140000
DTEND;TZID=America/New_York:20161203T150000
DTSTAMP:20260423T141543
CREATED:20161113T041454Z
LAST-MODIFIED:20161113T041723Z
UID:1098-1480773600-1480777200@kodachromebabies.com
SUMMARY:Holiday Open Studio at McGillicutty Art Studios
DESCRIPTION:Come get artsy fartsy with the Kodachome Babies at the Holiday Open Studio at McGillicutty Art Studios on Saturday\, December 3rd. The event runs from noon to 6:00 p.m.\, and we’ll do our thing from 2:00 to 3:00 p.m. The private studio will be open to the public and will feature an artists meet-and-greet\, snacks\, and other live music. Hope to see you there!
URL:https://kodachromebabies.com/event/holiday-open-studio-at-mcgillicutty-art-studios/
END:VEVENT
BEGIN:VEVENT
DTSTART;TZID=America/New_York:20161213T180000
DTEND;TZID=America/New_York:20161213T193000
DTSTAMP:20260423T141543
CREATED:20161113T042153Z
LAST-MODIFIED:20161113T042153Z
UID:1104-1481652000-1481657400@kodachromebabies.com
SUMMARY:Business After Hours at the Dennison Depot
DESCRIPTION:Get into the holiday spirit at the Business After Hours event at the Dennison Railroad Depot Museum on Tuesday\, December 13th! We’ll be singing Christmas tunes from 6:00 to 7:30 p.m.\, so come wine and dine your way through the original Pennsylvania Railroad Depot and enjoy the many tastes of Tuscarawas County from local businesses. \n 
URL:https://kodachromebabies.com/event/business-after-hours-at-the-dennison-depot/
END:VEVENT
BEGIN:VEVENT
DTSTART;TZID=America/New_York:20161215T191500
DTEND;TZID=America/New_York:20161215T200000
DTSTAMP:20260423T141543
CREATED:20161206T014156Z
LAST-MODIFIED:20161210T201545Z
UID:1113-1481829300-1481832000@kodachromebabies.com
SUMMARY:Kent State PAC
DESCRIPTION:Last time we opened for the Beatles…this time we’re opening for Mannheim Steamroller! \nJoin us in the lobby of the Kent State Performing Arts Center on Thursday\, December 15th from 7:15 to 8:00 p.m. where we’ll be getting festive as we warm up the crowd before experiencing Mannheim Steamroller inside the PAC theater. We’ll have copies of our new album “A Very Kodachrome Christmas” available for just $10\, so if you’re looking for some stocking stuffers\, we’ve got you covered!
URL:https://kodachromebabies.com/event/kent-state-pac/
LOCATION:Kent State Performing Arts Center\, 545 University Drive NE\, New Philadelphia\, OH\, 44663\, United States
END:VEVENT
END:VCALENDAR