BEGIN:VCALENDAR
VERSION:2.0
PRODID:-//The Kodachrome Babies - ECPv6.15.20//NONSGML v1.0//EN
CALSCALE:GREGORIAN
METHOD:PUBLISH
X-ORIGINAL-URL:https://kodachromebabies.com
X-WR-CALDESC:Events for The Kodachrome Babies
REFRESH-INTERVAL;VALUE=DURATION:PT1H
X-Robots-Tag:noindex
X-PUBLISHED-TTL:PT1H
BEGIN:VTIMEZONE
TZID:America/New_York
BEGIN:DAYLIGHT
TZOFFSETFROM:-0500
TZOFFSETTO:-0400
TZNAME:EDT
DTSTART:20150308T070000
END:DAYLIGHT
BEGIN:STANDARD
TZOFFSETFROM:-0400
TZOFFSETTO:-0500
TZNAME:EST
DTSTART:20151101T060000
END:STANDARD
BEGIN:DAYLIGHT
TZOFFSETFROM:-0500
TZOFFSETTO:-0400
TZNAME:EDT
DTSTART:20160313T070000
END:DAYLIGHT
BEGIN:STANDARD
TZOFFSETFROM:-0400
TZOFFSETTO:-0500
TZNAME:EST
DTSTART:20161106T060000
END:STANDARD
BEGIN:DAYLIGHT
TZOFFSETFROM:-0500
TZOFFSETTO:-0400
TZNAME:EDT
DTSTART:20170312T070000
END:DAYLIGHT
BEGIN:STANDARD
TZOFFSETFROM:-0400
TZOFFSETTO:-0500
TZNAME:EST
DTSTART:20171105T060000
END:STANDARD
END:VTIMEZONE
BEGIN:VEVENT
DTSTART;TZID=America/New_York:20161119T200000
DTEND;TZID=America/New_York:20161119T220000
DTSTAMP:20260423T111830
CREATED:20160808T015659Z
LAST-MODIFIED:20160808T015659Z
UID:1070-1479585600-1479592800@kodachromebabies.com
SUMMARY:Wabash Lanes
DESCRIPTION:The Kodachrome Babies are back at the Karma Lounge at Wabash Lanes on Saturday\, November 19th from 8:00 to 10:00 p.m. Kick back\, relax\, enjoy an adult beverage\, and sing along as we entertain you. And if you’re up for it\, enjoy a round of bowling\, too!
URL:https://kodachromebabies.com/event/wabash-lanes-2/
LOCATION:Wabash Lanes\, 655 Wabash Avenue NW\, New Philadelphia\, OH\, 44663\, United States
END:VEVENT
BEGIN:VEVENT
DTSTART;TZID=America/New_York:20161122T170000
DTEND;TZID=America/New_York:20161122T190000
DTSTAMP:20260423T111830
CREATED:20161108T024019Z
LAST-MODIFIED:20161121T232243Z
UID:1088-1479834000-1479841200@kodachromebabies.com
SUMMARY:Holiday Market
DESCRIPTION:The Kodachrome Babies will release their brand-new Christmas album “A Very Kodachrome Christmas” at the first-ever Holiday Market being hosted by the Tuscarawas Valley Farmers Market on Tuesday\, November 22nd at the Tool Shed at Breitenbach Winery in Dover. The market will run from 3:00 to 7:00 p.m.\, and the Babes will take the stage from 5:00 to 7:00 p.m. If you’ve ever been to a regular-season market\, you know this bigger\, expanded Holiday Market is something you definitely won’t want to miss! For more information on what you’ll find at the Holiday Market\, click here. CDs of “A Very Kodachrome Christmas” will be available for $10 along with other merchandise that would make great stocking stuffers *wink!* Hope to see you there!
URL:https://kodachromebabies.com/event/holiday-market/
LOCATION:The Tool Shed at Breitenbach Winery\, 5773 Old Route 39\, Dover\, OH\, 44622\, United States
END:VEVENT
BEGIN:VEVENT
DTSTART;TZID=America/New_York:20161125T093000
DTEND;TZID=America/New_York:20161125T113000
DTSTAMP:20260423T111830
CREATED:20160808T015839Z
LAST-MODIFIED:20161121T232320Z
UID:1071-1480066200-1480073400@kodachromebabies.com
SUMMARY:Black Friday at Park Street Pizza
DESCRIPTION:Back for year #2! The Kodachrome Babies help officially kick off the Christmas season at Park Street Pizza during their annual Black Friday event. The store will be open from 9:00 a.m to noon with special gift card promotions\, merchandise sales\, complimentary donuts and coffee\, and lovely tunes by yours truly. We’ll be singing from 9:30 to 11:30 a.m.\, so come check a few people off your Christmas list and spend your morning with us!
URL:https://kodachromebabies.com/event/black-friday-at-park-street-pizza-2/
LOCATION:Park Street Pizza\, 215 Dover Rd\, Sugarcreek\, OH\, 44681\, United States
END:VEVENT
END:VCALENDAR