BEGIN:VCALENDAR
VERSION:2.0
PRODID:-//The Kodachrome Babies - ECPv6.15.20//NONSGML v1.0//EN
CALSCALE:GREGORIAN
METHOD:PUBLISH
X-WR-CALNAME:The Kodachrome Babies
X-ORIGINAL-URL:https://kodachromebabies.com
X-WR-CALDESC:Events for The Kodachrome Babies
REFRESH-INTERVAL;VALUE=DURATION:PT1H
X-Robots-Tag:noindex
X-PUBLISHED-TTL:PT1H
BEGIN:VTIMEZONE
TZID:America/New_York
BEGIN:DAYLIGHT
TZOFFSETFROM:-0500
TZOFFSETTO:-0400
TZNAME:EDT
DTSTART:20150308T070000
END:DAYLIGHT
BEGIN:STANDARD
TZOFFSETFROM:-0400
TZOFFSETTO:-0500
TZNAME:EST
DTSTART:20151101T060000
END:STANDARD
BEGIN:DAYLIGHT
TZOFFSETFROM:-0500
TZOFFSETTO:-0400
TZNAME:EDT
DTSTART:20160313T070000
END:DAYLIGHT
BEGIN:STANDARD
TZOFFSETFROM:-0400
TZOFFSETTO:-0500
TZNAME:EST
DTSTART:20161106T060000
END:STANDARD
BEGIN:DAYLIGHT
TZOFFSETFROM:-0500
TZOFFSETTO:-0400
TZNAME:EDT
DTSTART:20170312T070000
END:DAYLIGHT
BEGIN:STANDARD
TZOFFSETFROM:-0400
TZOFFSETTO:-0500
TZNAME:EST
DTSTART:20171105T060000
END:STANDARD
END:VTIMEZONE
BEGIN:VEVENT
DTSTART;TZID=America/New_York:20160702T140000
DTEND;TZID=America/New_York:20160702T170000
DTSTAMP:20260423T052057
CREATED:20160503T183902Z
LAST-MODIFIED:20160503T183902Z
UID:1044-1467468000-1467478800@kodachromebabies.com
SUMMARY:Breitenbach Winery
DESCRIPTION:Join the Kodachrome Babies at Breitenbach Winery on Saturday\, July 2nd from 1:00 to 4:00 p.m. Sip on tasty wines as we provide the musical backdrop to your afternoon!
URL:https://kodachromebabies.com/event/breitenbach-winery/
LOCATION:Breitenbach Wine Cellars\, 5934 Old Route 39 NW\, Dover\, OH\, 44622\, United States
END:VEVENT
BEGIN:VEVENT
DTSTART;TZID=America/New_York:20160706T180000
DTEND;TZID=America/New_York:20160706T200000
DTSTAMP:20260423T052057
CREATED:20160614T162826Z
LAST-MODIFIED:20160614T163925Z
UID:1049-1467828000-1467835200@kodachromebabies.com
SUMMARY:Tuscarawas Valley Farmers Market
DESCRIPTION:The Babes are back at the Tuscarawas Valley Farmers Market on Wednesday\, July 6th from 5:00 to 7:00 p.m.! Stop by the fairgrounds in Dover to do some shopping for local produce\, and hang out with us as you enjoy something tasty from the Market Fresh Courtyard. It’s always a good time at the Farmers Market…see for yourself on July 6th!
URL:https://kodachromebabies.com/event/tuscarawas-valley-farmers-market-4/
LOCATION:Tuscarawas County Fairgrounds\, 259 South Tuscarawas Avenue\, Dover\, OH\, 44622\, United States
END:VEVENT
BEGIN:VEVENT
DTSTART;TZID=America/New_York:20160716T220000
DTEND;TZID=America/New_York:20160717T000000
DTSTAMP:20260423T052057
CREATED:20160614T163823Z
LAST-MODIFIED:20160614T163823Z
UID:1050-1468706400-1468713600@kodachromebabies.com
SUMMARY:Kodachrome Babies on DNP 102.3 FM
DESCRIPTION:The Kodachrome Babies return to the radio airwaves on Saturday\, July 16th from 9:00 to 11:00 p.m. for “Saturday Night Live & Local” on DNP 102.3 FM. Tune in as we play original and cover songs and share stories with host Tod Carper\, and we may even tell you about our next big project in the works!
URL:https://kodachromebabies.com/event/kodachrome-babies-on-dnp-102-3-fm/
END:VEVENT
END:VCALENDAR