BEGIN:VCALENDAR
VERSION:2.0
PRODID:-//The Kodachrome Babies - ECPv6.15.20//NONSGML v1.0//EN
CALSCALE:GREGORIAN
METHOD:PUBLISH
X-WR-CALNAME:The Kodachrome Babies
X-ORIGINAL-URL:https://kodachromebabies.com
X-WR-CALDESC:Events for The Kodachrome Babies
REFRESH-INTERVAL;VALUE=DURATION:PT1H
X-Robots-Tag:noindex
X-PUBLISHED-TTL:PT1H
BEGIN:VTIMEZONE
TZID:America/New_York
BEGIN:DAYLIGHT
TZOFFSETFROM:-0500
TZOFFSETTO:-0400
TZNAME:EDT
DTSTART:20150308T070000
END:DAYLIGHT
BEGIN:STANDARD
TZOFFSETFROM:-0400
TZOFFSETTO:-0500
TZNAME:EST
DTSTART:20151101T060000
END:STANDARD
BEGIN:DAYLIGHT
TZOFFSETFROM:-0500
TZOFFSETTO:-0400
TZNAME:EDT
DTSTART:20160313T070000
END:DAYLIGHT
BEGIN:STANDARD
TZOFFSETFROM:-0400
TZOFFSETTO:-0500
TZNAME:EST
DTSTART:20161106T060000
END:STANDARD
BEGIN:DAYLIGHT
TZOFFSETFROM:-0500
TZOFFSETTO:-0400
TZNAME:EDT
DTSTART:20170312T070000
END:DAYLIGHT
BEGIN:STANDARD
TZOFFSETFROM:-0400
TZOFFSETTO:-0500
TZNAME:EST
DTSTART:20171105T060000
END:STANDARD
END:VTIMEZONE
BEGIN:VEVENT
DTSTART;TZID=America/New_York:20160601T180000
DTEND;TZID=America/New_York:20160601T200000
DTSTAMP:20260423T034640
CREATED:20160503T183556Z
LAST-MODIFIED:20160503T183556Z
UID:1042-1464804000-1464811200@kodachromebabies.com
SUMMARY:Tuscarawas Valley Farmers Market
DESCRIPTION:The Kodachrome Babies will help kick off the 2016 season of the Tuscarawas Valley Farmers Market on Wednesday\, June 1st from 5:00 to 7:00 p.m. at the fairgrounds in Dover! As you’re singing along with us\, shop the market for local produce\, meats\, and other goods. We love playing at the market\, and we’re so happy the season is about to begin! See you at the market!
URL:https://kodachromebabies.com/event/tuscarawas-valley-farmers-market-3/
LOCATION:Tuscarawas County Fairgrounds\, 259 South Tuscarawas Avenue\, Dover\, OH\, 44622\, United States
END:VEVENT
BEGIN:VEVENT
DTSTART;TZID=America/New_York:20160618T130000
DTEND;TZID=America/New_York:20160618T150000
DTSTAMP:20260423T034640
CREATED:20160503T183719Z
LAST-MODIFIED:20160614T165104Z
UID:1043-1466254800-1466262000@kodachromebabies.com
SUMMARY:Tusky Days
DESCRIPTION:The Kodachrome Babies will perform at Tusky Days on Saturday\, June 18th from noon to 2:00 p.m. to help the Village of Tuscarawas celebrate its bicentennial\, and we hope you’ll join in the festivities along with us! The festival runs from Friday at 5:00 p.m. through Sunday ’til 6:00 p.m.\, and festival goers can enjoy live entertainment (duh!)\, rides\, food\, vendors\, a car and truck show\, and more! For details\, check out www.tuscvg.org/tusky-days-festival/. See you there!
URL:https://kodachromebabies.com/event/tusky-days/
LOCATION:Village of Tuscarawas\, School Street\, Tuscarawas\, OH\, 44682\, United States
END:VEVENT
END:VCALENDAR