BEGIN:VCALENDAR
VERSION:2.0
PRODID:-//The Kodachrome Babies - ECPv6.15.20//NONSGML v1.0//EN
CALSCALE:GREGORIAN
METHOD:PUBLISH
X-ORIGINAL-URL:https://kodachromebabies.com
X-WR-CALDESC:Events for The Kodachrome Babies
REFRESH-INTERVAL;VALUE=DURATION:PT1H
X-Robots-Tag:noindex
X-PUBLISHED-TTL:PT1H
BEGIN:VTIMEZONE
TZID:America/New_York
BEGIN:DAYLIGHT
TZOFFSETFROM:-0500
TZOFFSETTO:-0400
TZNAME:EDT
DTSTART:20150308T070000
END:DAYLIGHT
BEGIN:STANDARD
TZOFFSETFROM:-0400
TZOFFSETTO:-0500
TZNAME:EST
DTSTART:20151101T060000
END:STANDARD
BEGIN:DAYLIGHT
TZOFFSETFROM:-0500
TZOFFSETTO:-0400
TZNAME:EDT
DTSTART:20160313T070000
END:DAYLIGHT
BEGIN:STANDARD
TZOFFSETFROM:-0400
TZOFFSETTO:-0500
TZNAME:EST
DTSTART:20161106T060000
END:STANDARD
BEGIN:DAYLIGHT
TZOFFSETFROM:-0500
TZOFFSETTO:-0400
TZNAME:EDT
DTSTART:20170312T070000
END:DAYLIGHT
BEGIN:STANDARD
TZOFFSETFROM:-0400
TZOFFSETTO:-0500
TZNAME:EST
DTSTART:20171105T060000
END:STANDARD
END:VTIMEZONE
BEGIN:VEVENT
DTSTART;TZID=America/New_York:20160505T180000
DTEND;TZID=America/New_York:20160505T190000
DTSTAMP:20260423T021906
CREATED:20160503T173723Z
LAST-MODIFIED:20160503T173857Z
UID:1035-1462471200-1462474800@kodachromebabies.com
SUMMARY:Women Creating Connections
DESCRIPTION:Join the Kodachrome Babies at the “Women Creating Connections” event on Thursday\, May 5th at Union Country Club in Dover for hors d’oeuvres\, drinks\, live music\, and presentations on topics including women’s health\, combating stress naturally\, women and finance\, and dressing for success. The event\, which is being hosted by The Cavalena Group at Raymond James Financial Services in Dover\, officially begins at 5:30 p.m.\, but we’ll be providing music from 5:00 to 6:00 p.m.\, so come early to enjoy the music and food\, and then stick around for all of the helpful presentations. The event is free to attend\, but seating is limited\, and a ticket is required. To get your free ticket\, call 330-343-2212 or stop in at Raymond James Financial Services at 711 N. Wooster Avenue in Dover. Hope to see you there!
URL:https://kodachromebabies.com/event/women-creating-connections/
LOCATION:Union Country Club\, 1000 N. Bellvue Avenue\, Dover\, OH\, 44622\, United States
END:VEVENT
BEGIN:VEVENT
DTSTART;TZID=America/New_York:20160507T150000
DTEND;TZID=America/New_York:20160507T170000
DTSTAMP:20260423T021906
CREATED:20160503T183141Z
LAST-MODIFIED:20160503T183141Z
UID:1041-1462633200-1462640400@kodachromebabies.com
SUMMARY:Private Event
DESCRIPTION:
URL:https://kodachromebabies.com/event/private-event-3/
END:VEVENT
BEGIN:VEVENT
DTSTART;TZID=America/New_York:20160514T180000
DTEND;TZID=America/New_York:20160514T200000
DTSTAMP:20260423T021906
CREATED:20160503T180510Z
LAST-MODIFIED:20160503T180510Z
UID:1038-1463248800-1463256000@kodachromebabies.com
SUMMARY:Sugarcreek Arts on Broadway Anniversary Gala
DESCRIPTION:The Kodachrome Babies have been invited to help Sugarcreek Arts on Broadway celebrate their 1st anniversary on Saturday\, May 14th from 5:00 to 7:00 p.m. Located right next to the World’s Largest Cuckoo Clock in downtown Sugarcreek\, Sugarcreek Arts on Broadway is a one-stop shop for art made by local artisans of various media. The Anniversary Gala event is open to the public\, light refreshments will be served\, and we’ll be playing tunes throughout the evening\, so come out to show some love to this local business that supports local artists!
URL:https://kodachromebabies.com/event/sugarcreek-arts-on-broadway-anniversary-gala/
LOCATION:Sugarcreek Arts on Broadway\, 101 N. Broadway\, Sugarcreek\, OH\, 44681\, United States
END:VEVENT
END:VCALENDAR