BEGIN:VCALENDAR
VERSION:2.0
PRODID:-//The Kodachrome Babies - ECPv6.15.20//NONSGML v1.0//EN
CALSCALE:GREGORIAN
METHOD:PUBLISH
X-ORIGINAL-URL:https://kodachromebabies.com
X-WR-CALDESC:Events for The Kodachrome Babies
REFRESH-INTERVAL;VALUE=DURATION:PT1H
X-Robots-Tag:noindex
X-PUBLISHED-TTL:PT1H
BEGIN:VTIMEZONE
TZID:America/New_York
BEGIN:DAYLIGHT
TZOFFSETFROM:-0500
TZOFFSETTO:-0400
TZNAME:EDT
DTSTART:20150308T070000
END:DAYLIGHT
BEGIN:STANDARD
TZOFFSETFROM:-0400
TZOFFSETTO:-0500
TZNAME:EST
DTSTART:20151101T060000
END:STANDARD
BEGIN:DAYLIGHT
TZOFFSETFROM:-0500
TZOFFSETTO:-0400
TZNAME:EDT
DTSTART:20160313T070000
END:DAYLIGHT
BEGIN:STANDARD
TZOFFSETFROM:-0400
TZOFFSETTO:-0500
TZNAME:EST
DTSTART:20161106T060000
END:STANDARD
BEGIN:DAYLIGHT
TZOFFSETFROM:-0500
TZOFFSETTO:-0400
TZNAME:EDT
DTSTART:20170312T070000
END:DAYLIGHT
BEGIN:STANDARD
TZOFFSETFROM:-0400
TZOFFSETTO:-0500
TZNAME:EST
DTSTART:20171105T060000
END:STANDARD
END:VTIMEZONE
BEGIN:VEVENT
DTSTART;TZID=America/New_York:20160213T200000
DTEND;TZID=America/New_York:20160213T230000
DTSTAMP:20260422T213732
CREATED:20160201T224104Z
LAST-MODIFIED:20160201T224104Z
UID:1022-1455393600-1455404400@kodachromebabies.com
SUMMARY:Wabash Lanes
DESCRIPTION:Join the Kodachrome Babies on Saturday\, February 13th from 8:00 to 11:00 p.m. at Wabash Lanes in New Philadelphia for a night of beautiful tunes and bowling. We’ll be singing in the lounge area\, so come hang out with us and bowl and round or two!
URL:https://kodachromebabies.com/event/wabash-lanes/
LOCATION:Wabash Lanes\, 655 Wabash Avenue NW\, New Philadelphia\, OH\, 44663\, United States
END:VEVENT
BEGIN:VEVENT
DTSTART;TZID=America/New_York:20160214T140000
DTEND;TZID=America/New_York:20160214T170000
DTSTAMP:20260422T213732
CREATED:20160113T230730Z
LAST-MODIFIED:20160113T230730Z
UID:1021-1455458400-1455469200@kodachromebabies.com
SUMMARY:6th Annual Overdue Open House
DESCRIPTION:We’re back at one of our favorite annual events – the 6th Annual Overdue Open House at the Dover Public Library! This year’s event will be held on Sunday\, February 14th from 2:00 to 5:00 p.m. That’s right…Valentine’s Day! If you love the Dover Public Library\, or if you love the Kodachrome Babies…or both!…you won’t want to miss this awesome fundraising event. In addition to live music by yours truly as well as local band Valleytown\, guests can also enjoy family-friendly activities like face painting\, storytime\, a scavenger hunt\, a magician\, a juggler\, a performance by the Greater Tuscarawas Children’s Chorus\, costumed characters\, fine forgiveness\, a Valetine’s Day-themed bake sale\, and great prize raffles! As always\, it’s going to be a lot of fun. Come show the library some love this Valentine’s Day!
URL:https://kodachromebabies.com/event/6th-annual-overdue-open-house/
LOCATION:Dover Public Library\, 525 North Walnut Street\, Dover\, OH\, 44622\, United States
END:VEVENT
END:VCALENDAR