BEGIN:VCALENDAR
VERSION:2.0
PRODID:-//The Kodachrome Babies - ECPv6.15.20//NONSGML v1.0//EN
CALSCALE:GREGORIAN
METHOD:PUBLISH
X-WR-CALNAME:The Kodachrome Babies
X-ORIGINAL-URL:https://kodachromebabies.com
X-WR-CALDESC:Events for The Kodachrome Babies
REFRESH-INTERVAL;VALUE=DURATION:PT1H
X-Robots-Tag:noindex
X-PUBLISHED-TTL:PT1H
BEGIN:VTIMEZONE
TZID:America/New_York
BEGIN:DAYLIGHT
TZOFFSETFROM:-0500
TZOFFSETTO:-0400
TZNAME:EDT
DTSTART:20140309T070000
END:DAYLIGHT
BEGIN:STANDARD
TZOFFSETFROM:-0400
TZOFFSETTO:-0500
TZNAME:EST
DTSTART:20141102T060000
END:STANDARD
BEGIN:DAYLIGHT
TZOFFSETFROM:-0500
TZOFFSETTO:-0400
TZNAME:EDT
DTSTART:20150308T070000
END:DAYLIGHT
BEGIN:STANDARD
TZOFFSETFROM:-0400
TZOFFSETTO:-0500
TZNAME:EST
DTSTART:20151101T060000
END:STANDARD
BEGIN:DAYLIGHT
TZOFFSETFROM:-0500
TZOFFSETTO:-0400
TZNAME:EDT
DTSTART:20160313T070000
END:DAYLIGHT
BEGIN:STANDARD
TZOFFSETFROM:-0400
TZOFFSETTO:-0500
TZNAME:EST
DTSTART:20161106T060000
END:STANDARD
END:VTIMEZONE
BEGIN:VEVENT
DTSTART;VALUE=DATE:20150516
DTEND;VALUE=DATE:20150518
DTSTAMP:20260422T065929
CREATED:20150317T002902Z
LAST-MODIFIED:20150317T002902Z
UID:872-1431738000-1431824399@kodachromebabies.com
SUMMARY:Private Party
DESCRIPTION:Playing at the wedding of our lovely friends!
URL:https://kodachromebabies.com/event/private-party-3/
END:VEVENT
BEGIN:VEVENT
DTSTART;TZID=America/New_York:20150523T080000
DTEND;TZID=America/New_York:20150523T220000
DTSTAMP:20260422T065929
CREATED:20150407T003622Z
LAST-MODIFIED:20150407T003622Z
UID:922-1432368000-1432418400@kodachromebabies.com
SUMMARY:Baltic Mill Winery
DESCRIPTION:We will be back at the Baltic Mill Winery for more tasty wine and tasty tunes!
URL:https://kodachromebabies.com/event/baltic-mill-winery-2/
LOCATION:Baltic Mill Winery\, 111 East Main Street\, Baltic\, OH\, 43804\, United States
END:VEVENT
END:VCALENDAR