BEGIN:VCALENDAR
VERSION:2.0
PRODID:-//The Kodachrome Babies - ECPv6.15.20//NONSGML v1.0//EN
CALSCALE:GREGORIAN
METHOD:PUBLISH
X-ORIGINAL-URL:https://kodachromebabies.com
X-WR-CALDESC:Events for The Kodachrome Babies
REFRESH-INTERVAL;VALUE=DURATION:PT1H
X-Robots-Tag:noindex
X-PUBLISHED-TTL:PT1H
BEGIN:VTIMEZONE
TZID:America/New_York
BEGIN:DAYLIGHT
TZOFFSETFROM:-0500
TZOFFSETTO:-0400
TZNAME:EDT
DTSTART:20130310T070000
END:DAYLIGHT
BEGIN:STANDARD
TZOFFSETFROM:-0400
TZOFFSETTO:-0500
TZNAME:EST
DTSTART:20131103T060000
END:STANDARD
BEGIN:DAYLIGHT
TZOFFSETFROM:-0500
TZOFFSETTO:-0400
TZNAME:EDT
DTSTART:20140309T070000
END:DAYLIGHT
BEGIN:STANDARD
TZOFFSETFROM:-0400
TZOFFSETTO:-0500
TZNAME:EST
DTSTART:20141102T060000
END:STANDARD
BEGIN:DAYLIGHT
TZOFFSETFROM:-0500
TZOFFSETTO:-0400
TZNAME:EDT
DTSTART:20150308T070000
END:DAYLIGHT
BEGIN:STANDARD
TZOFFSETFROM:-0400
TZOFFSETTO:-0500
TZNAME:EST
DTSTART:20151101T060000
END:STANDARD
END:VTIMEZONE
BEGIN:VEVENT
DTSTART;TZID=America/New_York:20140801T200000
DTEND;TZID=America/New_York:20140801T220000
DTSTAMP:20260421T202939
CREATED:20140227T022907Z
LAST-MODIFIED:20140227T022907Z
UID:784-1406923200-1406930400@kodachromebabies.com
SUMMARY:First Friday at Deli Ohio
DESCRIPTION:The Babes return to Deli Ohio for some more First Friday fun! Come eat a sandwich and sing along! Just not with your mouth full…
URL:https://kodachromebabies.com/event/first-friday-at-deli-ohio/
LOCATION:Deli Ohio\, 328 Walnut Avenue NE\, Canton\, 44702
END:VEVENT
BEGIN:VEVENT
DTSTART;TZID=America/New_York:20140802T140000
DTEND;TZID=America/New_York:20140802T170000
DTSTAMP:20260421T202939
CREATED:20140218T204524Z
LAST-MODIFIED:20140218T204524Z
UID:764-1406988000-1406998800@kodachromebabies.com
SUMMARY:Breitenbach Wine Cellars
DESCRIPTION:Join the Kodachrome Babies for a glass of wine at Breitenbach Wine Cellars. What better way to spend a summery Saturday afternoon?
URL:https://kodachromebabies.com/event/breitenbach-wine-cellars/
LOCATION:Breitenbach Wine Cellars\, 5934 Old Route 39 NW\, Dover\, OH\, 44622\, United States
END:VEVENT
BEGIN:VEVENT
DTSTART;TZID=America/New_York:20140806T180000
DTEND;TZID=America/New_York:20140806T200000
DTSTAMP:20260421T202939
CREATED:20140605T002829Z
LAST-MODIFIED:20140605T002829Z
UID:819-1407348000-1407355200@kodachromebabies.com
SUMMARY:KBs at TVFFM....Round 2!
DESCRIPTION:Join us at the Tuscarawas Valley Family Farm Market at the fairgrounds in Dover for our second of three appearances this season. While you’re singing along\, pick up some delicious veggies and other locally produced goods.
URL:https://kodachromebabies.com/event/kbs-at-tvffm-round-2/
LOCATION:Tuscarawas County Fairgrounds\, 259 South Tuscarawas Avenue\, Dover\, OH\, 44622\, United States
END:VEVENT
END:VCALENDAR