BEGIN:VCALENDAR
VERSION:2.0
PRODID:-//The Kodachrome Babies - ECPv6.15.20//NONSGML v1.0//EN
CALSCALE:GREGORIAN
METHOD:PUBLISH
X-WR-CALNAME:The Kodachrome Babies
X-ORIGINAL-URL:https://kodachromebabies.com
X-WR-CALDESC:Events for The Kodachrome Babies
REFRESH-INTERVAL;VALUE=DURATION:PT1H
X-Robots-Tag:noindex
X-PUBLISHED-TTL:PT1H
BEGIN:VTIMEZONE
TZID:America/New_York
BEGIN:DAYLIGHT
TZOFFSETFROM:-0500
TZOFFSETTO:-0400
TZNAME:EDT
DTSTART:20130310T070000
END:DAYLIGHT
BEGIN:STANDARD
TZOFFSETFROM:-0400
TZOFFSETTO:-0500
TZNAME:EST
DTSTART:20131103T060000
END:STANDARD
BEGIN:DAYLIGHT
TZOFFSETFROM:-0500
TZOFFSETTO:-0400
TZNAME:EDT
DTSTART:20140309T070000
END:DAYLIGHT
BEGIN:STANDARD
TZOFFSETFROM:-0400
TZOFFSETTO:-0500
TZNAME:EST
DTSTART:20141102T060000
END:STANDARD
BEGIN:DAYLIGHT
TZOFFSETFROM:-0500
TZOFFSETTO:-0400
TZNAME:EDT
DTSTART:20150308T070000
END:DAYLIGHT
BEGIN:STANDARD
TZOFFSETFROM:-0400
TZOFFSETTO:-0500
TZNAME:EST
DTSTART:20151101T060000
END:STANDARD
END:VTIMEZONE
BEGIN:VEVENT
DTSTART;TZID=America/New_York:20140705T140000
DTEND;TZID=America/New_York:20140705T153000
DTSTAMP:20260421T185310
CREATED:20140429T131142Z
LAST-MODIFIED:20140429T131142Z
UID:805-1404568800-1404574200@kodachromebabies.com
SUMMARY:Big Bang Birthday Bash at the Guilford Lake Grille
DESCRIPTION:The Kodachrome Babies travel to Lisbon\, OH to play at the Big Bang Birthday Bash at the Guildford Lake Grille! The event is a fundraiser for the Humane Society of Columbiana County\, so come out to support a good cause and your favorite sister duo at the same time!
URL:https://kodachromebabies.com/event/big-bang-birthday-bash-at-the-guilford-lake-grille/
LOCATION:Guilford Lake Grille\, 7094 Eastlake Road\, Lisbon\, OH\, 44432\, United States
END:VEVENT
BEGIN:VEVENT
DTSTART;TZID=America/New_York:20140713T140000
DTEND;TZID=America/New_York:20140713T160000
DTSTAMP:20260421T185310
CREATED:20140314T134513Z
LAST-MODIFIED:20140314T134654Z
UID:787-1405260000-1405267200@kodachromebabies.com
SUMMARY:Reeve's Ice Cream Social
DESCRIPTION:Enjoy some sweet ice cream and some sweet tunes! Join the Kodachrome Babies as they make their second appearance at the annual Reeve’s Ice Cream Social. The event runs from noon to 4:00 p.m.\, but stop by from 1:00 to 3:00 p.m. to hear your favorite sister duo.
URL:https://kodachromebabies.com/event/reeves-ice-cream-social/
LOCATION:J.E. Reeve’s Victorian Home and Museum\, 325 E. Iron Avenue\, Dover\, OH\, 44622\, United States
END:VEVENT
BEGIN:VEVENT
DTSTART;TZID=America/New_York:20140726T200000
DTEND;TZID=America/New_York:20140726T220000
DTSTAMP:20260421T185310
CREATED:20140623T214347Z
LAST-MODIFIED:20140623T214347Z
UID:829-1406404800-1406412000@kodachromebabies.com
SUMMARY:Schoolhouse Winery
DESCRIPTION:We’re back again at the Sch0olhouse Winery for some singing and\, well\, wine! We will be performing outside\, weather permitting!
URL:https://kodachromebabies.com/event/schoolhouse-winery/
LOCATION:School House Winery\, 455 Schneiders Crossing Rd NW\, Dover\, OH\, 44622\, United States
END:VEVENT
END:VCALENDAR