BEGIN:VCALENDAR
VERSION:2.0
PRODID:-//The Kodachrome Babies - ECPv6.15.20//NONSGML v1.0//EN
CALSCALE:GREGORIAN
METHOD:PUBLISH
X-WR-CALNAME:The Kodachrome Babies
X-ORIGINAL-URL:https://kodachromebabies.com
X-WR-CALDESC:Events for The Kodachrome Babies
REFRESH-INTERVAL;VALUE=DURATION:PT1H
X-Robots-Tag:noindex
X-PUBLISHED-TTL:PT1H
BEGIN:VTIMEZONE
TZID:America/New_York
BEGIN:DAYLIGHT
TZOFFSETFROM:-0500
TZOFFSETTO:-0400
TZNAME:EDT
DTSTART:20130310T070000
END:DAYLIGHT
BEGIN:STANDARD
TZOFFSETFROM:-0400
TZOFFSETTO:-0500
TZNAME:EST
DTSTART:20131103T060000
END:STANDARD
BEGIN:DAYLIGHT
TZOFFSETFROM:-0500
TZOFFSETTO:-0400
TZNAME:EDT
DTSTART:20140309T070000
END:DAYLIGHT
BEGIN:STANDARD
TZOFFSETFROM:-0400
TZOFFSETTO:-0500
TZNAME:EST
DTSTART:20141102T060000
END:STANDARD
BEGIN:DAYLIGHT
TZOFFSETFROM:-0500
TZOFFSETTO:-0400
TZNAME:EDT
DTSTART:20150308T070000
END:DAYLIGHT
BEGIN:STANDARD
TZOFFSETFROM:-0400
TZOFFSETTO:-0500
TZNAME:EST
DTSTART:20151101T060000
END:STANDARD
END:VTIMEZONE
BEGIN:VEVENT
DTSTART;TZID=America/New_York:20140503T130000
DTEND;TZID=America/New_York:20140503T160000
DTSTAMP:20260421T155259
CREATED:20140422T023211Z
LAST-MODIFIED:20140422T023211Z
UID:793-1399122000-1399132800@kodachromebabies.com
SUMMARY:Kalamazoo Babies
DESCRIPTION:The Kodachrome Babies and Valleytown are looking forward to a fun afternoon at Kalamazoo College. Join us at the Spring Fling event\, which will feature all kinds of fun activities\, food\, and entertainment!
URL:https://kodachromebabies.com/event/kalamazoo-babies/
LOCATION:Kalamazoo College\, 1200 Academy Street\, Kalamazoo\, MI\, 49006\, United States
END:VEVENT
BEGIN:VEVENT
DTSTART;TZID=America/New_York:20140530T193000
DTEND;TZID=America/New_York:20140530T223000
DTSTAMP:20260421T155259
CREATED:20140218T203944Z
LAST-MODIFIED:20140218T203944Z
UID:756-1401478200-1401489000@kodachromebabies.com
SUMMARY:Canal Tavern of Zoar
DESCRIPTION:Join the Kodachrome Babies as they return to the Canal Tavern of Zoar to kick off their lineup of spring performances. Be sure to enjoy wonderful food and drinks as you take in the tunes.
URL:https://kodachromebabies.com/event/canal-tavern-of-zoar-2/
LOCATION:Canal Tavern of Zoar\, 8806 Towpath Rd NE\, Bolivar\, 44612
END:VEVENT
END:VCALENDAR