BEGIN:VCALENDAR
VERSION:2.0
PRODID:-//The Kodachrome Babies - ECPv6.15.20//NONSGML v1.0//EN
CALSCALE:GREGORIAN
METHOD:PUBLISH
X-ORIGINAL-URL:https://kodachromebabies.com
X-WR-CALDESC:Events for The Kodachrome Babies
REFRESH-INTERVAL;VALUE=DURATION:PT1H
X-Robots-Tag:noindex
X-PUBLISHED-TTL:PT1H
BEGIN:VTIMEZONE
TZID:America/New_York
BEGIN:DAYLIGHT
TZOFFSETFROM:-0500
TZOFFSETTO:-0400
TZNAME:EDT
DTSTART:20130310T070000
END:DAYLIGHT
BEGIN:STANDARD
TZOFFSETFROM:-0400
TZOFFSETTO:-0500
TZNAME:EST
DTSTART:20131103T060000
END:STANDARD
BEGIN:DAYLIGHT
TZOFFSETFROM:-0500
TZOFFSETTO:-0400
TZNAME:EDT
DTSTART:20140309T070000
END:DAYLIGHT
BEGIN:STANDARD
TZOFFSETFROM:-0400
TZOFFSETTO:-0500
TZNAME:EST
DTSTART:20141102T060000
END:STANDARD
BEGIN:DAYLIGHT
TZOFFSETFROM:-0500
TZOFFSETTO:-0400
TZNAME:EDT
DTSTART:20150308T070000
END:DAYLIGHT
BEGIN:STANDARD
TZOFFSETFROM:-0400
TZOFFSETTO:-0500
TZNAME:EST
DTSTART:20151101T060000
END:STANDARD
END:VTIMEZONE
BEGIN:VEVENT
DTSTART;VALUE=DATE:20140405
DTEND;VALUE=DATE:20140407
DTSTAMP:20260421T143411
CREATED:20140218T203512Z
LAST-MODIFIED:20140218T203512Z
UID:754-1396659600-1396745999@kodachromebabies.com
SUMMARY:Private Party
DESCRIPTION:
URL:https://kodachromebabies.com/event/private-party-2/
END:VEVENT
BEGIN:VEVENT
DTSTART;TZID=America/New_York:20140422T190000
DTEND;TZID=America/New_York:20140422T213000
DTSTAMP:20260421T143411
CREATED:20140422T165431Z
LAST-MODIFIED:20140422T165431Z
UID:795-1398193200-1398202200@kodachromebabies.com
SUMMARY:Wear & Share Fashion Show
DESCRIPTION:Celebrate Earth Day with the Kodachrome Babies at the Wear & Share Fashion Show! \nWear & Share is an original ystark! event that focuses on reusability. The idea was born out of the ystark! Reads Book Club. A few ystark! members read and discussed Annie Leonard’s “The Story of Stuff\,” which talks about the movement of reusing instead of buying new stuff. The group loved the idea and decided to start it in Stark County. \nThe Kodachrome Babies will play some tunes from 6:15 to 7:15 p.m.\, but stick around to see the amazing things being created by sustainability advocates in Stark County!
URL:https://kodachromebabies.com/event/wear-share-fashion-show/
LOCATION:The Joseph Saxton Gallery of Photography\, 520 Cleveland Avenue NW\, Canton\, OH\, 44702\, United States
END:VEVENT
BEGIN:VEVENT
DTSTART;TZID=America/New_York:20140426T200000
DTEND;TZID=America/New_York:20140426T220000
DTSTAMP:20260421T143411
CREATED:20140425T210813Z
LAST-MODIFIED:20140425T211646Z
UID:798-1398542400-1398549600@kodachromebabies.com
SUMMARY:School House Winery
DESCRIPTION:Drink wine and be merry as the Kodachrome Babies return to the School House Winery for some springtime fun!
URL:https://kodachromebabies.com/event/school-house-winery-3/
LOCATION:School House Winery\, 455 Schneiders Crossing Rd NW\, Dover\, OH\, 44622\, United States
END:VEVENT
END:VCALENDAR