BEGIN:VCALENDAR
VERSION:2.0
PRODID:-//The Kodachrome Babies - ECPv6.15.20//NONSGML v1.0//EN
CALSCALE:GREGORIAN
METHOD:PUBLISH
X-WR-CALNAME:The Kodachrome Babies
X-ORIGINAL-URL:https://kodachromebabies.com
X-WR-CALDESC:Events for The Kodachrome Babies
REFRESH-INTERVAL;VALUE=DURATION:PT1H
X-Robots-Tag:noindex
X-PUBLISHED-TTL:PT1H
BEGIN:VTIMEZONE
TZID:America/New_York
BEGIN:DAYLIGHT
TZOFFSETFROM:-0500
TZOFFSETTO:-0400
TZNAME:EDT
DTSTART:20120311T070000
END:DAYLIGHT
BEGIN:STANDARD
TZOFFSETFROM:-0400
TZOFFSETTO:-0500
TZNAME:EST
DTSTART:20121104T060000
END:STANDARD
BEGIN:DAYLIGHT
TZOFFSETFROM:-0500
TZOFFSETTO:-0400
TZNAME:EDT
DTSTART:20130310T070000
END:DAYLIGHT
BEGIN:STANDARD
TZOFFSETFROM:-0400
TZOFFSETTO:-0500
TZNAME:EST
DTSTART:20131103T060000
END:STANDARD
BEGIN:DAYLIGHT
TZOFFSETFROM:-0500
TZOFFSETTO:-0400
TZNAME:EDT
DTSTART:20140309T070000
END:DAYLIGHT
BEGIN:STANDARD
TZOFFSETFROM:-0400
TZOFFSETTO:-0500
TZNAME:EST
DTSTART:20141102T060000
END:STANDARD
END:VTIMEZONE
BEGIN:VEVENT
DTSTART;TZID=America/New_York:20131002T180000
DTEND;TZID=America/New_York:20131002T200000
DTSTAMP:20260421T070507
CREATED:20130517T140641Z
LAST-MODIFIED:20130517T140641Z
UID:650-1380736800-1380744000@kodachromebabies.com
SUMMARY:More Farmers Market Fun
DESCRIPTION:Visit the market’s facebook page for more information.
URL:https://kodachromebabies.com/event/more-farmers-market-fun-4/
LOCATION:tuscarawas County Fairgrounds\, 259 S Tuscarawas Ave\, dover\, 44622
END:VEVENT
BEGIN:VEVENT
DTSTART;TZID=America/New_York:20131012T203000
DTEND;TZID=America/New_York:20131012T223000
DTSTAMP:20260421T070507
CREATED:20130820T165442Z
LAST-MODIFIED:20130820T165442Z
UID:688-1381609800-1381617000@kodachromebabies.com
SUMMARY:School House Winery
DESCRIPTION:We are thrilled to be playing at one of our favorite venues. So come one\, come all to the School House Winery for delicious food\, sangria and tunes!
URL:https://kodachromebabies.com/event/school-house-winery/
LOCATION:School House Winery\, 455 Schneiders Crossing Rd NW\, Dover\, OH\, 44622\, United States
END:VEVENT
BEGIN:VEVENT
DTSTART;TZID=America/New_York:20131030T180000
DTEND;TZID=America/New_York:20131030T200000
DTSTAMP:20260421T070507
CREATED:20130517T140748Z
LAST-MODIFIED:20130517T140748Z
UID:652-1383156000-1383163200@kodachromebabies.com
SUMMARY:Closing Day of the Tuscarawas Valley Family Farm Market
DESCRIPTION:Visit the market’s facebook page for more information.
URL:https://kodachromebabies.com/event/closing-day-of-the-tuscarawas-valley-family-farm-market/
LOCATION:tuscarawas County Fairgrounds\, 259 S Tuscarawas Ave\, dover\, 44622
END:VEVENT
END:VCALENDAR