BEGIN:VCALENDAR
VERSION:2.0
PRODID:-//The Kodachrome Babies - ECPv6.15.20//NONSGML v1.0//EN
CALSCALE:GREGORIAN
METHOD:PUBLISH
X-WR-CALNAME:The Kodachrome Babies
X-ORIGINAL-URL:https://kodachromebabies.com
X-WR-CALDESC:Events for The Kodachrome Babies
REFRESH-INTERVAL;VALUE=DURATION:PT1H
X-Robots-Tag:noindex
X-PUBLISHED-TTL:PT1H
BEGIN:VTIMEZONE
TZID:America/New_York
BEGIN:DAYLIGHT
TZOFFSETFROM:-0500
TZOFFSETTO:-0400
TZNAME:EDT
DTSTART:20120311T070000
END:DAYLIGHT
BEGIN:STANDARD
TZOFFSETFROM:-0400
TZOFFSETTO:-0500
TZNAME:EST
DTSTART:20121104T060000
END:STANDARD
BEGIN:DAYLIGHT
TZOFFSETFROM:-0500
TZOFFSETTO:-0400
TZNAME:EDT
DTSTART:20130310T070000
END:DAYLIGHT
BEGIN:STANDARD
TZOFFSETFROM:-0400
TZOFFSETTO:-0500
TZNAME:EST
DTSTART:20131103T060000
END:STANDARD
BEGIN:DAYLIGHT
TZOFFSETFROM:-0500
TZOFFSETTO:-0400
TZNAME:EDT
DTSTART:20140309T070000
END:DAYLIGHT
BEGIN:STANDARD
TZOFFSETFROM:-0400
TZOFFSETTO:-0500
TZNAME:EST
DTSTART:20141102T060000
END:STANDARD
END:VTIMEZONE
BEGIN:VEVENT
DTSTART;TZID=America/New_York:20130807T180000
DTEND;TZID=America/New_York:20130807T200000
DTSTAMP:20260421T044105
CREATED:20130517T140334Z
LAST-MODIFIED:20130517T140450Z
UID:645-1375898400-1375905600@kodachromebabies.com
SUMMARY:More Farmers Market Fun
DESCRIPTION:Visit the market’s facebook page for more information.
URL:https://kodachromebabies.com/event/more-farmers-market-fun-2/
LOCATION:tuscarawas County Fairgrounds\, 259 S Tuscarawas Ave\, dover\, 44622
END:VEVENT
BEGIN:VEVENT
DTSTART;TZID=America/New_York:20130816T200000
DTEND;TZID=America/New_York:20130816T230000
DTSTAMP:20260421T044105
CREATED:20130708T023106Z
LAST-MODIFIED:20130812T132810Z
UID:674-1376683200-1376694000@kodachromebabies.com
SUMMARY:Canal Tavern of Zoar
DESCRIPTION:We were excited to be asked to play on the patio at the Canal Tavern of Zoar. Drop by for some delicious food\, drinks and music by yours truly.
URL:https://kodachromebabies.com/event/canal-tavern-of-zoar/
LOCATION:Canal Tavern of Zoar\, 8806 Towpath Rd NE\, Bolivar\, 44612
END:VEVENT
BEGIN:VEVENT
DTSTART;TZID=America/New_York:20130818T150000
DTEND;TZID=America/New_York:20130818T180000
DTSTAMP:20260421T044105
CREATED:20130708T023732Z
LAST-MODIFIED:20130708T023732Z
UID:677-1376838000-1376848800@kodachromebabies.com
SUMMARY:New Philadelphia VFW
DESCRIPTION:
URL:https://kodachromebabies.com/event/new-philadelphia-vfw/
LOCATION:New Philadelphia VFW\, 441 Park Ave NW\, New Philadelphia\, 44663
END:VEVENT
BEGIN:VEVENT
DTSTART;TZID=America/New_York:20130821T210000
DTEND;TZID=America/New_York:20130822T000000
DTSTAMP:20260421T044105
CREATED:20130820T164528Z
LAST-MODIFIED:20130820T165520Z
UID:687-1377118800-1377129600@kodachromebabies.com
SUMMARY:Fun at Bud's
DESCRIPTION:Hannah and Mal will be rocking out Wednesday night. Not sure of the full time yet\, but we will post it on facebook.
URL:https://kodachromebabies.com/event/fun-at-buds/
LOCATION:Bud n Tooties\, 601 West High Ave\, New Philadelphia\, OH\, 44663\, United States
END:VEVENT
END:VCALENDAR