BEGIN:VCALENDAR
VERSION:2.0
PRODID:-//The Kodachrome Babies - ECPv6.15.20//NONSGML v1.0//EN
CALSCALE:GREGORIAN
METHOD:PUBLISH
X-WR-CALNAME:The Kodachrome Babies
X-ORIGINAL-URL:https://kodachromebabies.com
X-WR-CALDESC:Events for The Kodachrome Babies
REFRESH-INTERVAL;VALUE=DURATION:PT1H
X-Robots-Tag:noindex
X-PUBLISHED-TTL:PT1H
BEGIN:VTIMEZONE
TZID:America/New_York
BEGIN:DAYLIGHT
TZOFFSETFROM:-0500
TZOFFSETTO:-0400
TZNAME:EDT
DTSTART:20240310T070000
END:DAYLIGHT
BEGIN:STANDARD
TZOFFSETFROM:-0400
TZOFFSETTO:-0500
TZNAME:EST
DTSTART:20241103T060000
END:STANDARD
BEGIN:DAYLIGHT
TZOFFSETFROM:-0500
TZOFFSETTO:-0400
TZNAME:EDT
DTSTART:20250309T070000
END:DAYLIGHT
BEGIN:STANDARD
TZOFFSETFROM:-0400
TZOFFSETTO:-0500
TZNAME:EST
DTSTART:20251102T060000
END:STANDARD
BEGIN:DAYLIGHT
TZOFFSETFROM:-0500
TZOFFSETTO:-0400
TZNAME:EDT
DTSTART:20260308T070000
END:DAYLIGHT
BEGIN:STANDARD
TZOFFSETFROM:-0400
TZOFFSETTO:-0500
TZNAME:EST
DTSTART:20261101T060000
END:STANDARD
BEGIN:DAYLIGHT
TZOFFSETFROM:-0500
TZOFFSETTO:-0400
TZNAME:EDT
DTSTART:20270314T070000
END:DAYLIGHT
BEGIN:STANDARD
TZOFFSETFROM:-0400
TZOFFSETTO:-0500
TZNAME:EST
DTSTART:20271107T060000
END:STANDARD
END:VTIMEZONE
BEGIN:VEVENT
DTSTART;TZID=America/New_York:20250625T170000
DTEND;TZID=America/New_York:20250625T190000
DTSTAMP:20260422T223759
CREATED:20250618T132834Z
LAST-MODIFIED:20250618T132834Z
UID:3246-1750870800-1750878000@kodachromebabies.com
SUMMARY:Tuscarawas Valley Farmers Market
DESCRIPTION:
URL:https://kodachromebabies.com/event/tuscarawas-valley-farmers-market-18/
LOCATION:Tuscarawas County Fairgrounds\, 259 South Tuscarawas Avenue\, Dover\, OH\, 44622\, United States
END:VEVENT
BEGIN:VEVENT
DTSTART;TZID=America/New_York:20250806T180000
DTEND;TZID=America/New_York:20250806T200000
DTSTAMP:20260422T223759
CREATED:20250730T133358Z
LAST-MODIFIED:20250730T133358Z
UID:3257-1754503200-1754510400@kodachromebabies.com
SUMMARY:The Pilot Brewhouse
DESCRIPTION:We’re so excited to be the first band to play at The Pilot Brewhouse in New Philadelphia! Their Grand Opening is Wednesday\, August 6th\, and we’ll entertain their guests from 6:00 to 8:00pm. Cheers!
URL:https://kodachromebabies.com/event/the-pilot-brewhouse/
LOCATION:The Pilot Brewhouse\, 1690 E. High Avenue\, New Philadelphia\, OH\, 44663\, United States
END:VEVENT
BEGIN:VEVENT
DTSTART;TZID=America/New_York:20250816T193000
DTEND;TZID=America/New_York:20250816T213000
DTSTAMP:20260422T223759
CREATED:20250124T145446Z
LAST-MODIFIED:20250228T140853Z
UID:3224-1755372600-1755379800@kodachromebabies.com
SUMMARY:Bear’s Den Steakhouse
DESCRIPTION:We’re back at the Bear’s Den! Join us at the incredible outdoor patio and stage while you enjoy an amazing farm-to-table meal. If the weather is unfavorable\, we will be located indoors.
URL:https://kodachromebabies.com/event/bears-den-steakhouse/
LOCATION:Bear’s Den Steakhouse\, 13320 E. Pike Road\, Cambridge\, OH\, 43725\, United States
END:VEVENT
BEGIN:VEVENT
DTSTART;TZID=America/New_York:20250823T120000
DTEND;TZID=America/New_York:20250823T160000
DTSTAMP:20260422T223759
CREATED:20250730T133840Z
LAST-MODIFIED:20250818T102707Z
UID:3260-1755950400-1755964800@kodachromebabies.com
SUMMARY:Leesville Lake Boaters Party
DESCRIPTION:
URL:https://kodachromebabies.com/event/leesville-lake-boaters-party/
LOCATION:Leesville Lake South Fork Marina\, 4131 Deer Road SW\, Bowerston\, OH\, 44695\, United States
END:VEVENT
BEGIN:VEVENT
DTSTART;TZID=America/New_York:20250904T173000
DTEND;TZID=America/New_York:20250904T190000
DTSTAMP:20260422T223759
CREATED:20250618T133718Z
LAST-MODIFIED:20250618T134609Z
UID:3248-1757007000-1757012400@kodachromebabies.com
SUMMARY:TUFF Bags Gala
DESCRIPTION:Join us at the 4th Annual “Feeding Our Future Gala” and help eradicate childhood food insecurity for children in Tuscarawas County. Enjoy a catered dinner\, live music by yours truly\, silent and live auctions\, guest speakers\, and more! Tickets are on sale now at: 4th Annual “Feeding Our Future” Gala by UNITED WAY OF TUSCARAWAS COUNTY\, INC.
URL:https://kodachromebabies.com/event/tuff-bags-gala/
LOCATION:ProVia\, 629 Wabash Avenue NW\, New Philadelphia\, OH 44663\, OH\, 44663\, United States
END:VEVENT
BEGIN:VEVENT
DTSTART;TZID=America/New_York:20251012T113000
DTEND;TZID=America/New_York:20251012T133000
DTSTAMP:20260422T223759
CREATED:20250923T174015Z
LAST-MODIFIED:20250923T174015Z
UID:3267-1760268600-1760275800@kodachromebabies.com
SUMMARY:Art on the Alley
DESCRIPTION:
URL:https://kodachromebabies.com/event/art-on-the-alley-4/
LOCATION:Downtown New Philadelphia\, 1st Drive NW\, New Philadelphia\, OH\, 44663\, United States
END:VEVENT
BEGIN:VEVENT
DTSTART;TZID=America/New_York:20260411T133000
DTEND;TZID=America/New_York:20260411T153000
DTSTAMP:20260422T223759
CREATED:20260331T220508Z
LAST-MODIFIED:20260331T220508Z
UID:3272-1775914200-1775921400@kodachromebabies.com
SUMMARY:Wag 'n Walk - Support for Amy Smith's Melanoma Fight
DESCRIPTION:
URL:https://kodachromebabies.com/event/wag-n-walk-support-for-amy-smiths-melanoma-fight/
LOCATION:Dover City Pool\, 3000 Tremont Ext.\, Dover\, OH\, 44622\, United States
END:VEVENT
BEGIN:VEVENT
DTSTART;TZID=America/New_York:20260509T124500
DTEND;TZID=America/New_York:20260509T140000
DTSTAMP:20260422T223759
CREATED:20260331T221145Z
LAST-MODIFIED:20260331T221145Z
UID:3275-1778330700-1778335200@kodachromebabies.com
SUMMARY:"Stitches in Time - A Ladies Fashion Tea" Hosted by ArtsNCT
DESCRIPTION:
URL:https://kodachromebabies.com/event/stitches-in-time-a-ladies-fashion-tea-hosted-by-artsnct/
LOCATION:Olde Main Street Museum\, 213 W Canal Street\, Newcomerstown\, OH\, 43832\, United States
ORGANIZER;CN="ArtsNCT":MAILTO:michael.wise@artsnct.org
END:VEVENT
BEGIN:VEVENT
DTSTART;TZID=America/New_York:20260620T170000
DTEND;TZID=America/New_York:20260620T190000
DTSTAMP:20260422T223759
CREATED:20260331T221416Z
LAST-MODIFIED:20260331T221416Z
UID:3279-1781974800-1781982000@kodachromebabies.com
SUMMARY:Tusky Days Festival
DESCRIPTION:
URL:https://kodachromebabies.com/event/tusky-days-festival-7/
LOCATION:Village of Tuscarawas\, School Street\, Tuscarawas\, OH\, 44682\, United States
END:VEVENT
BEGIN:VEVENT
DTSTART;TZID=America/New_York:20260826T170000
DTEND;TZID=America/New_York:20260826T190000
DTSTAMP:20260422T223759
CREATED:20260331T221549Z
LAST-MODIFIED:20260331T221549Z
UID:3281-1787763600-1787770800@kodachromebabies.com
SUMMARY:Tuscarawas Valley Farmers Market
DESCRIPTION:
URL:https://kodachromebabies.com/event/tuscarawas-valley-farmers-market-19/
LOCATION:Tuscarawas County Fairgrounds\, 259 South Tuscarawas Avenue\, Dover\, OH\, 44622\, United States
END:VEVENT
BEGIN:VEVENT
DTSTART;TZID=America/New_York:20260903T000000
DTEND;TZID=America/New_York:20260903T235959
DTSTAMP:20260422T223759
CREATED:20260331T222333Z
LAST-MODIFIED:20260331T222333Z
UID:3283-1788393600-1788479999@kodachromebabies.com
SUMMARY:TUFF Bags Gala
DESCRIPTION:
URL:https://kodachromebabies.com/event/tuff-bags-gala-2/
END:VEVENT
END:VCALENDAR