BEGIN:VCALENDAR
VERSION:2.0
PRODID:-//The Kodachrome Babies - ECPv6.15.20//NONSGML v1.0//EN
CALSCALE:GREGORIAN
METHOD:PUBLISH
X-ORIGINAL-URL:https://kodachromebabies.com
X-WR-CALDESC:Events for The Kodachrome Babies
REFRESH-INTERVAL;VALUE=DURATION:PT1H
X-Robots-Tag:noindex
X-PUBLISHED-TTL:PT1H
BEGIN:VTIMEZONE
TZID:America/New_York
BEGIN:DAYLIGHT
TZOFFSETFROM:-0500
TZOFFSETTO:-0400
TZNAME:EDT
DTSTART:20170312T070000
END:DAYLIGHT
BEGIN:STANDARD
TZOFFSETFROM:-0400
TZOFFSETTO:-0500
TZNAME:EST
DTSTART:20171105T060000
END:STANDARD
BEGIN:DAYLIGHT
TZOFFSETFROM:-0500
TZOFFSETTO:-0400
TZNAME:EDT
DTSTART:20180311T070000
END:DAYLIGHT
BEGIN:STANDARD
TZOFFSETFROM:-0400
TZOFFSETTO:-0500
TZNAME:EST
DTSTART:20181104T060000
END:STANDARD
BEGIN:DAYLIGHT
TZOFFSETFROM:-0500
TZOFFSETTO:-0400
TZNAME:EDT
DTSTART:20190310T070000
END:DAYLIGHT
BEGIN:STANDARD
TZOFFSETFROM:-0400
TZOFFSETTO:-0500
TZNAME:EST
DTSTART:20191103T060000
END:STANDARD
END:VTIMEZONE
BEGIN:VEVENT
DTSTART;TZID=America/New_York:20180825T130000
DTEND;TZID=America/New_York:20180825T150000
DTSTAMP:20260424T204349
CREATED:20180806T192039Z
LAST-MODIFIED:20180806T192039Z
UID:1418-1535202000-1535209200@kodachromebabies.com
SUMMARY:Loves Gallery
DESCRIPTION:
URL:https://kodachromebabies.com/event/loves-gallery/
LOCATION:Loves Gallery\, 101 W. High Avenue\, New Philadelphia\, OH\, 44663\, United States
END:VEVENT
END:VCALENDAR