BEGIN:VCALENDAR
VERSION:2.0
PRODID:-//The Kodachrome Babies - ECPv6.15.20//NONSGML v1.0//EN
CALSCALE:GREGORIAN
METHOD:PUBLISH
X-ORIGINAL-URL:https://kodachromebabies.com
X-WR-CALDESC:Events for The Kodachrome Babies
REFRESH-INTERVAL;VALUE=DURATION:PT1H
X-Robots-Tag:noindex
X-PUBLISHED-TTL:PT1H
BEGIN:VTIMEZONE
TZID:America/New_York
BEGIN:DAYLIGHT
TZOFFSETFROM:-0500
TZOFFSETTO:-0400
TZNAME:EDT
DTSTART:20170312T070000
END:DAYLIGHT
BEGIN:STANDARD
TZOFFSETFROM:-0400
TZOFFSETTO:-0500
TZNAME:EST
DTSTART:20171105T060000
END:STANDARD
BEGIN:DAYLIGHT
TZOFFSETFROM:-0500
TZOFFSETTO:-0400
TZNAME:EDT
DTSTART:20180311T070000
END:DAYLIGHT
BEGIN:STANDARD
TZOFFSETFROM:-0400
TZOFFSETTO:-0500
TZNAME:EST
DTSTART:20181104T060000
END:STANDARD
BEGIN:DAYLIGHT
TZOFFSETFROM:-0500
TZOFFSETTO:-0400
TZNAME:EDT
DTSTART:20190310T070000
END:DAYLIGHT
BEGIN:STANDARD
TZOFFSETFROM:-0400
TZOFFSETTO:-0500
TZNAME:EST
DTSTART:20191103T060000
END:STANDARD
END:VTIMEZONE
BEGIN:VEVENT
DTSTART;TZID=America/New_York:20180623T143000
DTEND;TZID=America/New_York:20180623T153000
DTSTAMP:20260424T173245
CREATED:20180417T022429Z
LAST-MODIFIED:20180417T022429Z
UID:1383-1529764200-1529767800@kodachromebabies.com
SUMMARY:SWARM Celebrates Pollinator Week at the TCPL
DESCRIPTION:
URL:https://kodachromebabies.com/event/swarm-celebrates-pollinator-week-at-the-tcpl/
LOCATION:Tuscarawas County Public Library\, 121 Fair Avenue NW\, New Philadelphia\, OH\, 44663\, United States
END:VEVENT
BEGIN:VEVENT
DTSTART;TZID=America/New_York:20180623T200000
DTEND;TZID=America/New_York:20180623T220000
DTSTAMP:20260424T173245
CREATED:20180207T193134Z
LAST-MODIFIED:20180207T193134Z
UID:1351-1529784000-1529791200@kodachromebabies.com
SUMMARY:School House Winery
DESCRIPTION:
URL:https://kodachromebabies.com/event/school-house-winery-9/
LOCATION:School House Winery\, 455 Schneiders Crossing Rd NW\, Dover\, OH\, 44622\, United States
END:VEVENT
END:VCALENDAR