BEGIN:VCALENDAR
VERSION:2.0
PRODID:-//The Kodachrome Babies - ECPv6.15.20//NONSGML v1.0//EN
CALSCALE:GREGORIAN
METHOD:PUBLISH
X-ORIGINAL-URL:https://kodachromebabies.com
X-WR-CALDESC:Events for The Kodachrome Babies
REFRESH-INTERVAL;VALUE=DURATION:PT1H
X-Robots-Tag:noindex
X-PUBLISHED-TTL:PT1H
BEGIN:VTIMEZONE
TZID:America/New_York
BEGIN:DAYLIGHT
TZOFFSETFROM:-0500
TZOFFSETTO:-0400
TZNAME:EDT
DTSTART:20160313T070000
END:DAYLIGHT
BEGIN:STANDARD
TZOFFSETFROM:-0400
TZOFFSETTO:-0500
TZNAME:EST
DTSTART:20161106T060000
END:STANDARD
BEGIN:DAYLIGHT
TZOFFSETFROM:-0500
TZOFFSETTO:-0400
TZNAME:EDT
DTSTART:20170312T070000
END:DAYLIGHT
BEGIN:STANDARD
TZOFFSETFROM:-0400
TZOFFSETTO:-0500
TZNAME:EST
DTSTART:20171105T060000
END:STANDARD
BEGIN:DAYLIGHT
TZOFFSETFROM:-0500
TZOFFSETTO:-0400
TZNAME:EDT
DTSTART:20180311T070000
END:DAYLIGHT
BEGIN:STANDARD
TZOFFSETFROM:-0400
TZOFFSETTO:-0500
TZNAME:EST
DTSTART:20181104T060000
END:STANDARD
END:VTIMEZONE
BEGIN:VEVENT
DTSTART;TZID=America/New_York:20171121T150000
DTEND;TZID=America/New_York:20171121T190000
DTSTAMP:20260424T062657
CREATED:20170918T202128Z
LAST-MODIFIED:20171120T131830Z
UID:1294-1511276400-1511290800@kodachromebabies.com
SUMMARY:TVFM Holiday Market
DESCRIPTION:The Kodachrome Babies will once again entertain shoppers at the Tuscarawas Valley Farmers Market’s 2nd Annual Holiday Market on Tuesday\, November 21st at the Tool Shed at Breitenbach Winery! This fun\, festive event allows shoppers to purchase fresh\, local\, in-season produce just in time for their Thanksgiving meals as well as shop for Christmas gifts made by local vendors. The event runs from 3:00 to 7:00pm and features live music\, cooking demos\, wine\, and plenty more! The Kodachrome Babies will play from 5:40 to 7:00\, but don’t miss Barefoot McCoy from 3:00 to 4:15 and Sharon Gustkey from 4:20 to 5:35. Come have some festive fun with us!
URL:https://kodachromebabies.com/event/tvfm-holiday-market/
LOCATION:Breitenbach Wine Cellars\, 5934 Old Route 39 NW\, Dover\, OH\, 44622\, United States
END:VEVENT
END:VCALENDAR