BEGIN:VCALENDAR
VERSION:2.0
PRODID:-//The Kodachrome Babies - ECPv6.15.20//NONSGML v1.0//EN
CALSCALE:GREGORIAN
METHOD:PUBLISH
X-WR-CALNAME:The Kodachrome Babies
X-ORIGINAL-URL:https://kodachromebabies.com
X-WR-CALDESC:Events for The Kodachrome Babies
REFRESH-INTERVAL;VALUE=DURATION:PT1H
X-Robots-Tag:noindex
X-PUBLISHED-TTL:PT1H
BEGIN:VTIMEZONE
TZID:America/New_York
BEGIN:DAYLIGHT
TZOFFSETFROM:-0500
TZOFFSETTO:-0400
TZNAME:EDT
DTSTART:20160313T070000
END:DAYLIGHT
BEGIN:STANDARD
TZOFFSETFROM:-0400
TZOFFSETTO:-0500
TZNAME:EST
DTSTART:20161106T060000
END:STANDARD
BEGIN:DAYLIGHT
TZOFFSETFROM:-0500
TZOFFSETTO:-0400
TZNAME:EDT
DTSTART:20170312T070000
END:DAYLIGHT
BEGIN:STANDARD
TZOFFSETFROM:-0400
TZOFFSETTO:-0500
TZNAME:EST
DTSTART:20171105T060000
END:STANDARD
BEGIN:DAYLIGHT
TZOFFSETFROM:-0500
TZOFFSETTO:-0400
TZNAME:EDT
DTSTART:20180311T070000
END:DAYLIGHT
BEGIN:STANDARD
TZOFFSETFROM:-0400
TZOFFSETTO:-0500
TZNAME:EST
DTSTART:20181104T060000
END:STANDARD
END:VTIMEZONE
BEGIN:VEVENT
DTSTART;TZID=America/New_York:20171118T130000
DTEND;TZID=America/New_York:20171118T140000
DTSTAMP:20260424T062542
CREATED:20171023T011932Z
LAST-MODIFIED:20171113T025816Z
UID:1306-1511010000-1511013600@kodachromebabies.com
SUMMARY:Warther's Christmas Tree Festival
DESCRIPTION:The Kodachrome Babies will get into the Christmas spirit at the 24th Annual Warther’s Christmas Tree Festival on Saturday\, November 18th from 1:00 to 2:00pm. Come to Warther’s Carvings in Dover to see the nearly 100 Christmas trees filling the galleries of the museum. The trees will be available for purchase along with many wreaths\, holiday arrangements\, and the entire lobby display. Proceeds from the Christmas Tree Festival benefit the Union Hospital Auxiliary for the purchase of patient care equipment and facility improvements. For more information on the festival\, click here.
URL:https://kodachromebabies.com/event/warthers-christmas-tree-festival/
LOCATION:Warther Museum & Gardens\, 331 Karl Avenue\, Dover\, OH\, 44622\, United States
END:VEVENT
END:VCALENDAR