BEGIN:VCALENDAR
VERSION:2.0
PRODID:-//The Kodachrome Babies - ECPv6.15.20//NONSGML v1.0//EN
CALSCALE:GREGORIAN
METHOD:PUBLISH
X-ORIGINAL-URL:https://kodachromebabies.com
X-WR-CALDESC:Events for The Kodachrome Babies
REFRESH-INTERVAL;VALUE=DURATION:PT1H
X-Robots-Tag:noindex
X-PUBLISHED-TTL:PT1H
BEGIN:VTIMEZONE
TZID:America/New_York
BEGIN:DAYLIGHT
TZOFFSETFROM:-0500
TZOFFSETTO:-0400
TZNAME:EDT
DTSTART:20160313T070000
END:DAYLIGHT
BEGIN:STANDARD
TZOFFSETFROM:-0400
TZOFFSETTO:-0500
TZNAME:EST
DTSTART:20161106T060000
END:STANDARD
BEGIN:DAYLIGHT
TZOFFSETFROM:-0500
TZOFFSETTO:-0400
TZNAME:EDT
DTSTART:20170312T070000
END:DAYLIGHT
BEGIN:STANDARD
TZOFFSETFROM:-0400
TZOFFSETTO:-0500
TZNAME:EST
DTSTART:20171105T060000
END:STANDARD
BEGIN:DAYLIGHT
TZOFFSETFROM:-0500
TZOFFSETTO:-0400
TZNAME:EDT
DTSTART:20180311T070000
END:DAYLIGHT
BEGIN:STANDARD
TZOFFSETFROM:-0400
TZOFFSETTO:-0500
TZNAME:EST
DTSTART:20181104T060000
END:STANDARD
END:VTIMEZONE
BEGIN:VEVENT
DTSTART;TZID=America/New_York:20171111T120000
DTEND;TZID=America/New_York:20171111T133000
DTSTAMP:20260424T062608
CREATED:20171023T005548Z
LAST-MODIFIED:20171110T014403Z
UID:1303-1510401600-1510407000@kodachromebabies.com
SUMMARY:TCPL 2nd Annual Artisan & Local Author Faire
DESCRIPTION:The Kodachrome Babies will be the featured entertainment at the Tuscarawas County Public Library System’s 2nd Annual Artisan & Local Author Faire on Saturday\, November 11th from noon to 3:00pm. Come browse a variety of excellent artists’ exhibits and visit with local authors throughout the library. The event will feature items to purchase as well as hands-on learning experiences. Learn about pottery\, painting\, drawing\, photography\, writing\, and more! We’ll be singing tunes from noon to 1:30pm\, so stop by for an afternoon of local art fun!
URL:https://kodachromebabies.com/event/tcpl-2nd-annual-artisan-local-author-faire/
LOCATION:Tuscarawas County Public Library\, 121 Fair Avenue NW\, New Philadelphia\, OH\, 44663\, United States
END:VEVENT
END:VCALENDAR