BEGIN:VCALENDAR
VERSION:2.0
PRODID:-//The Kodachrome Babies - ECPv6.15.20//NONSGML v1.0//EN
CALSCALE:GREGORIAN
METHOD:PUBLISH
X-WR-CALNAME:The Kodachrome Babies
X-ORIGINAL-URL:https://kodachromebabies.com
X-WR-CALDESC:Events for The Kodachrome Babies
REFRESH-INTERVAL;VALUE=DURATION:PT1H
X-Robots-Tag:noindex
X-PUBLISHED-TTL:PT1H
BEGIN:VTIMEZONE
TZID:America/New_York
BEGIN:DAYLIGHT
TZOFFSETFROM:-0500
TZOFFSETTO:-0400
TZNAME:EDT
DTSTART:20160313T070000
END:DAYLIGHT
BEGIN:STANDARD
TZOFFSETFROM:-0400
TZOFFSETTO:-0500
TZNAME:EST
DTSTART:20161106T060000
END:STANDARD
BEGIN:DAYLIGHT
TZOFFSETFROM:-0500
TZOFFSETTO:-0400
TZNAME:EDT
DTSTART:20170312T070000
END:DAYLIGHT
BEGIN:STANDARD
TZOFFSETFROM:-0400
TZOFFSETTO:-0500
TZNAME:EST
DTSTART:20171105T060000
END:STANDARD
BEGIN:DAYLIGHT
TZOFFSETFROM:-0500
TZOFFSETTO:-0400
TZNAME:EDT
DTSTART:20180311T070000
END:DAYLIGHT
BEGIN:STANDARD
TZOFFSETFROM:-0400
TZOFFSETTO:-0500
TZNAME:EST
DTSTART:20181104T060000
END:STANDARD
END:VTIMEZONE
BEGIN:VEVENT
DTSTART;TZID=America/New_York:20171019T200000
DTEND;TZID=America/New_York:20171019T210000
DTSTAMP:20260424T050739
CREATED:20170822T024946Z
LAST-MODIFIED:20170822T024946Z
UID:1285-1508443200-1508446800@kodachromebabies.com
SUMMARY:TAP Arty Party
DESCRIPTION:The Kodachrome Babies will entertain at this year’s Tuscarawas Arts Partnership Arty Party being held at Fine Arts Skin & Laser in Dover on Thursday\, October 19th. The event runs from 6:00 to 9:00pm\, and we’ll play tunes from 7:00 to 8:00pm\, so come by for a night of food\, spirits\, local art\, and live music by yours truly. Original art will be available via silent auction\, and all proceeds from the evening will benefit the Tuscarawas Arts Partnership and their efforts to promote a visible\, sustainable\, local arts culture through advocacy\, education\, and funding. Tickets are $50 per person\, and all attendees must send an official RSVP. For more information\, click here.
URL:https://kodachromebabies.com/event/tap-arty-party/
LOCATION:Fine Arts Skin & Laser\, 335 Oxford Street\, Suite B\, Dover\, OH\, 44622\, United States
END:VEVENT
END:VCALENDAR