BEGIN:VCALENDAR
VERSION:2.0
PRODID:-//The Kodachrome Babies - ECPv6.15.20//NONSGML v1.0//EN
CALSCALE:GREGORIAN
METHOD:PUBLISH
X-ORIGINAL-URL:https://kodachromebabies.com
X-WR-CALDESC:Events for The Kodachrome Babies
REFRESH-INTERVAL;VALUE=DURATION:PT1H
X-Robots-Tag:noindex
X-PUBLISHED-TTL:PT1H
BEGIN:VTIMEZONE
TZID:America/New_York
BEGIN:DAYLIGHT
TZOFFSETFROM:-0500
TZOFFSETTO:-0400
TZNAME:EDT
DTSTART:20160313T070000
END:DAYLIGHT
BEGIN:STANDARD
TZOFFSETFROM:-0400
TZOFFSETTO:-0500
TZNAME:EST
DTSTART:20161106T060000
END:STANDARD
BEGIN:DAYLIGHT
TZOFFSETFROM:-0500
TZOFFSETTO:-0400
TZNAME:EDT
DTSTART:20170312T070000
END:DAYLIGHT
BEGIN:STANDARD
TZOFFSETFROM:-0400
TZOFFSETTO:-0500
TZNAME:EST
DTSTART:20171105T060000
END:STANDARD
BEGIN:DAYLIGHT
TZOFFSETFROM:-0500
TZOFFSETTO:-0400
TZNAME:EDT
DTSTART:20180311T070000
END:DAYLIGHT
BEGIN:STANDARD
TZOFFSETFROM:-0400
TZOFFSETTO:-0500
TZNAME:EST
DTSTART:20181104T060000
END:STANDARD
END:VTIMEZONE
BEGIN:VEVENT
DTSTART;TZID=America/New_York:20170910T130000
DTEND;TZID=America/New_York:20170910T150000
DTSTAMP:20260424T035434
CREATED:20170907T130736Z
LAST-MODIFIED:20170907T130736Z
UID:1291-1505048400-1505055600@kodachromebabies.com
SUMMARY:Camp Tuscazoar Pig Roast
DESCRIPTION:The Kodachrome Babies have been invited to perform at the 2017 Pig Roast fundraiser at Camp Tuscazoar on Sunday\, September 10th from noon to 2:00 p.m. Save your appetite and come out to Camp Tuscazoar to enjoy a delicious meal for a good cause. Proceeds from the event will go towards the cost of operating the camp. The meal will include roast pork\, barbecued chicken\, corn\, applesauce\, baked potatoes\, rolls and butter\, beverage\, and homemade desserts. Pre-sale tickets are $12 for adults and $4 for children\, and tickets at the door will be $15 for adults and $5 for children. The event runs both Saturday\, September 9th (3:00 to 7:00 p.m.) and Sunday\, September 10th (11:00 to 3:00 p.m.)\, but make sure to come between noon and 2:00 on Sunday to catch our performance!
URL:https://kodachromebabies.com/event/camp-tuscazoar-pig-roast/
LOCATION:Camp Tuscazoar\, 6066 Boy Scout Rd NE\, Dover\, OH\, 44622\, United States
END:VEVENT
END:VCALENDAR