BEGIN:VCALENDAR
VERSION:2.0
PRODID:-//The Kodachrome Babies - ECPv6.15.20//NONSGML v1.0//EN
CALSCALE:GREGORIAN
METHOD:PUBLISH
X-WR-CALNAME:The Kodachrome Babies
X-ORIGINAL-URL:https://kodachromebabies.com
X-WR-CALDESC:Events for The Kodachrome Babies
REFRESH-INTERVAL;VALUE=DURATION:PT1H
X-Robots-Tag:noindex
X-PUBLISHED-TTL:PT1H
BEGIN:VTIMEZONE
TZID:America/New_York
BEGIN:DAYLIGHT
TZOFFSETFROM:-0500
TZOFFSETTO:-0400
TZNAME:EDT
DTSTART:20160313T070000
END:DAYLIGHT
BEGIN:STANDARD
TZOFFSETFROM:-0400
TZOFFSETTO:-0500
TZNAME:EST
DTSTART:20161106T060000
END:STANDARD
BEGIN:DAYLIGHT
TZOFFSETFROM:-0500
TZOFFSETTO:-0400
TZNAME:EDT
DTSTART:20170312T070000
END:DAYLIGHT
BEGIN:STANDARD
TZOFFSETFROM:-0400
TZOFFSETTO:-0500
TZNAME:EST
DTSTART:20171105T060000
END:STANDARD
BEGIN:DAYLIGHT
TZOFFSETFROM:-0500
TZOFFSETTO:-0400
TZNAME:EDT
DTSTART:20180311T070000
END:DAYLIGHT
BEGIN:STANDARD
TZOFFSETFROM:-0400
TZOFFSETTO:-0500
TZNAME:EST
DTSTART:20181104T060000
END:STANDARD
END:VTIMEZONE
BEGIN:VEVENT
DTSTART;TZID=America/New_York:20170907T193000
DTEND;TZID=America/New_York:20170907T203000
DTSTAMP:20260424T035300
CREATED:20170822T023334Z
LAST-MODIFIED:20170828T013646Z
UID:1283-1504812600-1504816200@kodachromebabies.com
SUMMARY:Kent State PAC
DESCRIPTION:The Kodachrome Babies will entertain guests in the lobby of the Kent State Performing Arts Center on Thursday\, September 7th from 6:30 to 7:30pm\, prior to the performance by David Myles. If you still need to buy your tickets to the show\, use the promo code BABIES to receive a $5 discount per ticket when you purchase them through the PAC website. Be sure to come early to catch your favorite sister duo doing what we do! \n  \n 
URL:https://kodachromebabies.com/event/kent-state-pac-3/
LOCATION:Kent State Performing Arts Center\, 545 University Drive NE\, New Philadelphia\, OH\, 44663\, United States
END:VEVENT
END:VCALENDAR