BEGIN:VCALENDAR
VERSION:2.0
PRODID:-//The Kodachrome Babies - ECPv6.15.20//NONSGML v1.0//EN
CALSCALE:GREGORIAN
METHOD:PUBLISH
X-WR-CALNAME:The Kodachrome Babies
X-ORIGINAL-URL:https://kodachromebabies.com
X-WR-CALDESC:Events for The Kodachrome Babies
REFRESH-INTERVAL;VALUE=DURATION:PT1H
X-Robots-Tag:noindex
X-PUBLISHED-TTL:PT1H
BEGIN:VTIMEZONE
TZID:America/New_York
BEGIN:DAYLIGHT
TZOFFSETFROM:-0500
TZOFFSETTO:-0400
TZNAME:EDT
DTSTART:20160313T070000
END:DAYLIGHT
BEGIN:STANDARD
TZOFFSETFROM:-0400
TZOFFSETTO:-0500
TZNAME:EST
DTSTART:20161106T060000
END:STANDARD
BEGIN:DAYLIGHT
TZOFFSETFROM:-0500
TZOFFSETTO:-0400
TZNAME:EDT
DTSTART:20170312T070000
END:DAYLIGHT
BEGIN:STANDARD
TZOFFSETFROM:-0400
TZOFFSETTO:-0500
TZNAME:EST
DTSTART:20171105T060000
END:STANDARD
BEGIN:DAYLIGHT
TZOFFSETFROM:-0500
TZOFFSETTO:-0400
TZNAME:EDT
DTSTART:20180311T070000
END:DAYLIGHT
BEGIN:STANDARD
TZOFFSETFROM:-0400
TZOFFSETTO:-0500
TZNAME:EST
DTSTART:20181104T060000
END:STANDARD
END:VTIMEZONE
BEGIN:VEVENT
DTSTART;TZID=America/New_York:20170710T070000
DTEND;TZID=America/New_York:20170710T210000
DTSTAMP:20260424T014648
CREATED:20170629T013919Z
LAST-MODIFIED:20170710T165658Z
UID:1274-1499670000-1499720400@kodachromebabies.com
SUMMARY:Walk to End Alzheimer's BBQ Cookoff Kickoff
DESCRIPTION:Join the Kodachrome Babies at the Tuscarawas County Walk to End Alzheimer’s BBQ Cookoff Kickoff on Monday\, July 10th from 6:00 to 8:00 p.m. at the Masonic Temple in Dover. Tickets are just $5 to try some of the best BBQ recipes in the county! Plan to start a team at the event to raise money for this great cause. For more information or to purchase tickets\, call Paula at 330-243-6866. Hope to see you there!
URL:https://kodachromebabies.com/event/walk-to-end-alzheimers-bbq-cookoff-kickoff/
LOCATION:Masonic Temple\, 735 N. Wooster Avenue\, Dover\, OH\, 44622\, United States
END:VEVENT
END:VCALENDAR