BEGIN:VCALENDAR
VERSION:2.0
PRODID:-//The Kodachrome Babies - ECPv6.15.20//NONSGML v1.0//EN
CALSCALE:GREGORIAN
METHOD:PUBLISH
X-WR-CALNAME:The Kodachrome Babies
X-ORIGINAL-URL:https://kodachromebabies.com
X-WR-CALDESC:Events for The Kodachrome Babies
REFRESH-INTERVAL;VALUE=DURATION:PT1H
X-Robots-Tag:noindex
X-PUBLISHED-TTL:PT1H
BEGIN:VTIMEZONE
TZID:America/New_York
BEGIN:DAYLIGHT
TZOFFSETFROM:-0500
TZOFFSETTO:-0400
TZNAME:EDT
DTSTART:20160313T070000
END:DAYLIGHT
BEGIN:STANDARD
TZOFFSETFROM:-0400
TZOFFSETTO:-0500
TZNAME:EST
DTSTART:20161106T060000
END:STANDARD
BEGIN:DAYLIGHT
TZOFFSETFROM:-0500
TZOFFSETTO:-0400
TZNAME:EDT
DTSTART:20170312T070000
END:DAYLIGHT
BEGIN:STANDARD
TZOFFSETFROM:-0400
TZOFFSETTO:-0500
TZNAME:EST
DTSTART:20171105T060000
END:STANDARD
BEGIN:DAYLIGHT
TZOFFSETFROM:-0500
TZOFFSETTO:-0400
TZNAME:EDT
DTSTART:20180311T070000
END:DAYLIGHT
BEGIN:STANDARD
TZOFFSETFROM:-0400
TZOFFSETTO:-0500
TZNAME:EST
DTSTART:20181104T060000
END:STANDARD
END:VTIMEZONE
BEGIN:VEVENT
DTSTART;TZID=America/New_York:20170708T130000
DTEND;TZID=America/New_York:20170708T150000
DTSTAMP:20260424T014648
CREATED:20170531T012340Z
LAST-MODIFIED:20170531T012340Z
UID:1262-1499518800-1499526000@kodachromebabies.com
SUMMARY:Tuscarawas River Canoe & Kayak Race
DESCRIPTION:Come hang out down by the river on Saturday\, July 8th during the annual Tuscarawas River Canoe & Kayak Race! We’ll entertain canoers and kayakers from noon to 2:00 p.m.\, and stick around as our friends from Valleytown keep things musical from 2:00 to 4:00 p.m. Check back as the event nears for more details!
URL:https://kodachromebabies.com/event/tuscarawas-river-canoe-kayak-race/
LOCATION:Riverfront Park\, Canal Street\, Dover\, OH\, 44622\, United States
END:VEVENT
END:VCALENDAR