BEGIN:VCALENDAR
VERSION:2.0
PRODID:-//The Kodachrome Babies - ECPv6.15.20//NONSGML v1.0//EN
CALSCALE:GREGORIAN
METHOD:PUBLISH
X-ORIGINAL-URL:https://kodachromebabies.com
X-WR-CALDESC:Events for The Kodachrome Babies
REFRESH-INTERVAL;VALUE=DURATION:PT1H
X-Robots-Tag:noindex
X-PUBLISHED-TTL:PT1H
BEGIN:VTIMEZONE
TZID:America/New_York
BEGIN:DAYLIGHT
TZOFFSETFROM:-0500
TZOFFSETTO:-0400
TZNAME:EDT
DTSTART:20160313T070000
END:DAYLIGHT
BEGIN:STANDARD
TZOFFSETFROM:-0400
TZOFFSETTO:-0500
TZNAME:EST
DTSTART:20161106T060000
END:STANDARD
BEGIN:DAYLIGHT
TZOFFSETFROM:-0500
TZOFFSETTO:-0400
TZNAME:EDT
DTSTART:20170312T070000
END:DAYLIGHT
BEGIN:STANDARD
TZOFFSETFROM:-0400
TZOFFSETTO:-0500
TZNAME:EST
DTSTART:20171105T060000
END:STANDARD
BEGIN:DAYLIGHT
TZOFFSETFROM:-0500
TZOFFSETTO:-0400
TZNAME:EDT
DTSTART:20180311T070000
END:DAYLIGHT
BEGIN:STANDARD
TZOFFSETFROM:-0400
TZOFFSETTO:-0500
TZNAME:EST
DTSTART:20181104T060000
END:STANDARD
END:VTIMEZONE
BEGIN:VEVENT
DTSTART;TZID=America/New_York:20170624T180000
DTEND;TZID=America/New_York:20170624T210000
DTSTAMP:20260424T002902
CREATED:20170416T235727Z
LAST-MODIFIED:20170416T235727Z
UID:1187-1498327200-1498338000@kodachromebabies.com
SUMMARY:Save a Dog - Ride a Hog
DESCRIPTION:Join the Tuscarawas County Humane Society at Hog Heaven in New Philadelphia on Saturday\, June 24th for their “Save a Dog – Ride a Hog” fundraising event. The Kodachrome Babies are scheduled to entertain from 5:00 to 8:00 p.m.\, so come on out for a great cause! They will be selling $10 raffle tickets prior to and the night of the event with cash prizes of up to $500! There will also be lots of items to bid on as well as shirts for sale\, so make plans to spend the evening with us to benefit our local humane society.
URL:https://kodachromebabies.com/event/save-a-dog-ride-a-hog/
LOCATION:Hog Heaven\, 1290 W. High Avenue\, New Philadelphia\, OH\, 44663\, United States
END:VEVENT
END:VCALENDAR