BEGIN:VCALENDAR
VERSION:2.0
PRODID:-//The Kodachrome Babies - ECPv6.15.20//NONSGML v1.0//EN
CALSCALE:GREGORIAN
METHOD:PUBLISH
X-ORIGINAL-URL:https://kodachromebabies.com
X-WR-CALDESC:Events for The Kodachrome Babies
REFRESH-INTERVAL;VALUE=DURATION:PT1H
X-Robots-Tag:noindex
X-PUBLISHED-TTL:PT1H
BEGIN:VTIMEZONE
TZID:America/New_York
BEGIN:DAYLIGHT
TZOFFSETFROM:-0500
TZOFFSETTO:-0400
TZNAME:EDT
DTSTART:20160313T070000
END:DAYLIGHT
BEGIN:STANDARD
TZOFFSETFROM:-0400
TZOFFSETTO:-0500
TZNAME:EST
DTSTART:20161106T060000
END:STANDARD
BEGIN:DAYLIGHT
TZOFFSETFROM:-0500
TZOFFSETTO:-0400
TZNAME:EDT
DTSTART:20170312T070000
END:DAYLIGHT
BEGIN:STANDARD
TZOFFSETFROM:-0400
TZOFFSETTO:-0500
TZNAME:EST
DTSTART:20171105T060000
END:STANDARD
BEGIN:DAYLIGHT
TZOFFSETFROM:-0500
TZOFFSETTO:-0400
TZNAME:EDT
DTSTART:20180311T070000
END:DAYLIGHT
BEGIN:STANDARD
TZOFFSETFROM:-0400
TZOFFSETTO:-0500
TZNAME:EST
DTSTART:20181104T060000
END:STANDARD
END:VTIMEZONE
BEGIN:VEVENT
DTSTART;TZID=America/New_York:20170607T180000
DTEND;TZID=America/New_York:20170607T200000
DTSTAMP:20260424T002904
CREATED:20170416T231242Z
LAST-MODIFIED:20170416T231242Z
UID:1178-1496858400-1496865600@kodachromebabies.com
SUMMARY:Tuscarawas Valley Farmers Market
DESCRIPTION:Head to the fairgrounds in Dover on Wednesday\, June 7th for Opening Day at the Tuscarawas Valley Farmers Market! We’ll help them kick of their 9th season with live music by yours truly from 5:00 to 7:00 p.m.\, but you can start shopping for local produce when the market officially opens at 3:00 p.m. We love the market and can’t wait for the start of the season!
URL:https://kodachromebabies.com/event/tuscarawas-valley-farmers-market-8/
LOCATION:Tuscarawas County Fairgrounds\, 259 South Tuscarawas Avenue\, Dover\, OH\, 44622\, United States
END:VEVENT
END:VCALENDAR