BEGIN:VCALENDAR
VERSION:2.0
PRODID:-//The Kodachrome Babies - ECPv6.15.20//NONSGML v1.0//EN
CALSCALE:GREGORIAN
METHOD:PUBLISH
X-WR-CALNAME:The Kodachrome Babies
X-ORIGINAL-URL:https://kodachromebabies.com
X-WR-CALDESC:Events for The Kodachrome Babies
REFRESH-INTERVAL;VALUE=DURATION:PT1H
X-Robots-Tag:noindex
X-PUBLISHED-TTL:PT1H
BEGIN:VTIMEZONE
TZID:America/New_York
BEGIN:DAYLIGHT
TZOFFSETFROM:-0500
TZOFFSETTO:-0400
TZNAME:EDT
DTSTART:20160313T070000
END:DAYLIGHT
BEGIN:STANDARD
TZOFFSETFROM:-0400
TZOFFSETTO:-0500
TZNAME:EST
DTSTART:20161106T060000
END:STANDARD
BEGIN:DAYLIGHT
TZOFFSETFROM:-0500
TZOFFSETTO:-0400
TZNAME:EDT
DTSTART:20170312T070000
END:DAYLIGHT
BEGIN:STANDARD
TZOFFSETFROM:-0400
TZOFFSETTO:-0500
TZNAME:EST
DTSTART:20171105T060000
END:STANDARD
BEGIN:DAYLIGHT
TZOFFSETFROM:-0500
TZOFFSETTO:-0400
TZNAME:EDT
DTSTART:20180311T070000
END:DAYLIGHT
BEGIN:STANDARD
TZOFFSETFROM:-0400
TZOFFSETTO:-0500
TZNAME:EST
DTSTART:20181104T060000
END:STANDARD
END:VTIMEZONE
BEGIN:VEVENT
DTSTART;TZID=America/New_York:20170603T190000
DTEND;TZID=America/New_York:20170603T200000
DTSTAMP:20260423T231101
CREATED:20170524T021520Z
LAST-MODIFIED:20170524T021520Z
UID:1258-1496516400-1496520000@kodachromebabies.com
SUMMARY:Barn Jam 2017
DESCRIPTION:The Kodachrome Babies are excited to perform at Barn Jam 2017! The event is an all day\, all night jam with all local musicians\, and we’ll take the stage at 6:00 p.m. Bring your own food and beverages to enjoy around the bonfire. There is no charge to attend\, so we hope you can make it!
URL:https://kodachromebabies.com/event/barn-jam-2017/
LOCATION:The Barn\, 5586 Boy Scout Road NE\, Dover\, OH\, 44622\, United States
END:VEVENT
END:VCALENDAR