BEGIN:VCALENDAR
VERSION:2.0
PRODID:-//The Kodachrome Babies - ECPv6.15.20//NONSGML v1.0//EN
CALSCALE:GREGORIAN
METHOD:PUBLISH
X-ORIGINAL-URL:https://kodachromebabies.com
X-WR-CALDESC:Events for The Kodachrome Babies
REFRESH-INTERVAL;VALUE=DURATION:PT1H
X-Robots-Tag:noindex
X-PUBLISHED-TTL:PT1H
BEGIN:VTIMEZONE
TZID:America/New_York
BEGIN:DAYLIGHT
TZOFFSETFROM:-0500
TZOFFSETTO:-0400
TZNAME:EDT
DTSTART:20160313T070000
END:DAYLIGHT
BEGIN:STANDARD
TZOFFSETFROM:-0400
TZOFFSETTO:-0500
TZNAME:EST
DTSTART:20161106T060000
END:STANDARD
BEGIN:DAYLIGHT
TZOFFSETFROM:-0500
TZOFFSETTO:-0400
TZNAME:EDT
DTSTART:20170312T070000
END:DAYLIGHT
BEGIN:STANDARD
TZOFFSETFROM:-0400
TZOFFSETTO:-0500
TZNAME:EST
DTSTART:20171105T060000
END:STANDARD
BEGIN:DAYLIGHT
TZOFFSETFROM:-0500
TZOFFSETTO:-0400
TZNAME:EDT
DTSTART:20180311T070000
END:DAYLIGHT
BEGIN:STANDARD
TZOFFSETFROM:-0400
TZOFFSETTO:-0500
TZNAME:EST
DTSTART:20181104T060000
END:STANDARD
END:VTIMEZONE
BEGIN:VEVENT
DTSTART;TZID=America/New_York:20170403T190000
DTEND;TZID=America/New_York:20170403T190000
DTSTAMP:20260423T214839
CREATED:20170320T204938Z
LAST-MODIFIED:20170320T205330Z
UID:1163-1491246000-1491246000@kodachromebabies.com
SUMMARY:bfearless. Spring Fashion Show
DESCRIPTION:Catch the Kodachrome Babies on the catwalk (or more likely near the catwalk) on Monday\, April 3rd at the Amish Country Theater for the bfearless. Spring Fashion Show! The doors will open at 6:00 p.m. with the show starting at 7:15 p.m. We’ll provide the musical entertainment during the social hour\, so gather a group of friends and make it an evening of food\, fashion\, and fun! Tickets are $25 and are on sale now at bfearless. Proceeds from this event will go to the family of Meera Tate Yoder. The show has sold out every year\, so get your tickets early!
URL:https://kodachromebabies.com/event/bfearless-spring-fashion-show/
LOCATION:Amish Country Theater\, 3149 OH 39\, Walnut Creek\, OH\, 44687\, United States
END:VEVENT
END:VCALENDAR