BEGIN:VCALENDAR
VERSION:2.0
PRODID:-//The Kodachrome Babies - ECPv6.15.20//NONSGML v1.0//EN
CALSCALE:GREGORIAN
METHOD:PUBLISH
X-WR-CALNAME:The Kodachrome Babies
X-ORIGINAL-URL:https://kodachromebabies.com
X-WR-CALDESC:Events for The Kodachrome Babies
REFRESH-INTERVAL;VALUE=DURATION:PT1H
X-Robots-Tag:noindex
X-PUBLISHED-TTL:PT1H
BEGIN:VTIMEZONE
TZID:America/New_York
BEGIN:DAYLIGHT
TZOFFSETFROM:-0500
TZOFFSETTO:-0400
TZNAME:EDT
DTSTART:20150308T070000
END:DAYLIGHT
BEGIN:STANDARD
TZOFFSETFROM:-0400
TZOFFSETTO:-0500
TZNAME:EST
DTSTART:20151101T060000
END:STANDARD
BEGIN:DAYLIGHT
TZOFFSETFROM:-0500
TZOFFSETTO:-0400
TZNAME:EDT
DTSTART:20160313T070000
END:DAYLIGHT
BEGIN:STANDARD
TZOFFSETFROM:-0400
TZOFFSETTO:-0500
TZNAME:EST
DTSTART:20161106T060000
END:STANDARD
BEGIN:DAYLIGHT
TZOFFSETFROM:-0500
TZOFFSETTO:-0400
TZNAME:EDT
DTSTART:20170312T070000
END:DAYLIGHT
BEGIN:STANDARD
TZOFFSETFROM:-0400
TZOFFSETTO:-0500
TZNAME:EST
DTSTART:20171105T060000
END:STANDARD
END:VTIMEZONE
BEGIN:VEVENT
DTSTART;TZID=America/New_York:20161213T180000
DTEND;TZID=America/New_York:20161213T193000
DTSTAMP:20260423T153130
CREATED:20161113T042153Z
LAST-MODIFIED:20161113T042153Z
UID:1104-1481652000-1481657400@kodachromebabies.com
SUMMARY:Business After Hours at the Dennison Depot
DESCRIPTION:Get into the holiday spirit at the Business After Hours event at the Dennison Railroad Depot Museum on Tuesday\, December 13th! We’ll be singing Christmas tunes from 6:00 to 7:30 p.m.\, so come wine and dine your way through the original Pennsylvania Railroad Depot and enjoy the many tastes of Tuscarawas County from local businesses. \n 
URL:https://kodachromebabies.com/event/business-after-hours-at-the-dennison-depot/
END:VEVENT
END:VCALENDAR