BEGIN:VCALENDAR
VERSION:2.0
PRODID:-//The Kodachrome Babies - ECPv6.15.20//NONSGML v1.0//EN
CALSCALE:GREGORIAN
METHOD:PUBLISH
X-ORIGINAL-URL:https://kodachromebabies.com
X-WR-CALDESC:Events for The Kodachrome Babies
REFRESH-INTERVAL;VALUE=DURATION:PT1H
X-Robots-Tag:noindex
X-PUBLISHED-TTL:PT1H
BEGIN:VTIMEZONE
TZID:America/New_York
BEGIN:DAYLIGHT
TZOFFSETFROM:-0500
TZOFFSETTO:-0400
TZNAME:EDT
DTSTART:20150308T070000
END:DAYLIGHT
BEGIN:STANDARD
TZOFFSETFROM:-0400
TZOFFSETTO:-0500
TZNAME:EST
DTSTART:20151101T060000
END:STANDARD
BEGIN:DAYLIGHT
TZOFFSETFROM:-0500
TZOFFSETTO:-0400
TZNAME:EDT
DTSTART:20160313T070000
END:DAYLIGHT
BEGIN:STANDARD
TZOFFSETFROM:-0400
TZOFFSETTO:-0500
TZNAME:EST
DTSTART:20161106T060000
END:STANDARD
BEGIN:DAYLIGHT
TZOFFSETFROM:-0500
TZOFFSETTO:-0400
TZNAME:EDT
DTSTART:20170312T070000
END:DAYLIGHT
BEGIN:STANDARD
TZOFFSETFROM:-0400
TZOFFSETTO:-0500
TZNAME:EST
DTSTART:20171105T060000
END:STANDARD
END:VTIMEZONE
BEGIN:VEVENT
DTSTART;TZID=America/New_York:20161119T200000
DTEND;TZID=America/New_York:20161119T220000
DTSTAMP:20260423T141543
CREATED:20160808T015659Z
LAST-MODIFIED:20160808T015659Z
UID:1070-1479585600-1479592800@kodachromebabies.com
SUMMARY:Wabash Lanes
DESCRIPTION:The Kodachrome Babies are back at the Karma Lounge at Wabash Lanes on Saturday\, November 19th from 8:00 to 10:00 p.m. Kick back\, relax\, enjoy an adult beverage\, and sing along as we entertain you. And if you’re up for it\, enjoy a round of bowling\, too!
URL:https://kodachromebabies.com/event/wabash-lanes-2/
LOCATION:Wabash Lanes\, 655 Wabash Avenue NW\, New Philadelphia\, OH\, 44663\, United States
END:VEVENT
END:VCALENDAR