BEGIN:VCALENDAR
VERSION:2.0
PRODID:-//The Kodachrome Babies - ECPv6.15.20//NONSGML v1.0//EN
CALSCALE:GREGORIAN
METHOD:PUBLISH
X-WR-CALNAME:The Kodachrome Babies
X-ORIGINAL-URL:https://kodachromebabies.com
X-WR-CALDESC:Events for The Kodachrome Babies
REFRESH-INTERVAL;VALUE=DURATION:PT1H
X-Robots-Tag:noindex
X-PUBLISHED-TTL:PT1H
BEGIN:VTIMEZONE
TZID:America/New_York
BEGIN:DAYLIGHT
TZOFFSETFROM:-0500
TZOFFSETTO:-0400
TZNAME:EDT
DTSTART:20150308T070000
END:DAYLIGHT
BEGIN:STANDARD
TZOFFSETFROM:-0400
TZOFFSETTO:-0500
TZNAME:EST
DTSTART:20151101T060000
END:STANDARD
BEGIN:DAYLIGHT
TZOFFSETFROM:-0500
TZOFFSETTO:-0400
TZNAME:EDT
DTSTART:20160313T070000
END:DAYLIGHT
BEGIN:STANDARD
TZOFFSETFROM:-0400
TZOFFSETTO:-0500
TZNAME:EST
DTSTART:20161106T060000
END:STANDARD
BEGIN:DAYLIGHT
TZOFFSETFROM:-0500
TZOFFSETTO:-0400
TZNAME:EDT
DTSTART:20170312T070000
END:DAYLIGHT
BEGIN:STANDARD
TZOFFSETFROM:-0400
TZOFFSETTO:-0500
TZNAME:EST
DTSTART:20171105T060000
END:STANDARD
END:VTIMEZONE
BEGIN:VEVENT
DTSTART;TZID=America/New_York:20160915T193000
DTEND;TZID=America/New_York:20160915T203000
DTSTAMP:20260423T095125
CREATED:20160913T134458Z
LAST-MODIFIED:20160913T134458Z
UID:1080-1473967800-1473971400@kodachromebabies.com
SUMMARY:Kent State Performing Arts Center
DESCRIPTION:The Kodachrome Babies will perform in the lobby of the Kent State PAC on Thursday\, September 15th from 6:30 to 7:30 p.m. before “The Fab Four – Ultimate Tribute” takes to the main stage at 7:30 p.m. If you’re planning to attend the show at the PAC that evening\, be sure to arrive an hour before showtime to enjoy the sisterly harmonies of the Babes before rockin’ and rollin’ to the tunes of the Beatles tribute band. It’s going to be fabulous!
URL:https://kodachromebabies.com/event/kent-state-performing-arts-center/
LOCATION:Kent State Performing Arts Center\, 545 University Drive NE\, New Philadelphia\, OH\, 44663\, United States
END:VEVENT
END:VCALENDAR