BEGIN:VCALENDAR
VERSION:2.0
PRODID:-//The Kodachrome Babies - ECPv6.15.20//NONSGML v1.0//EN
CALSCALE:GREGORIAN
METHOD:PUBLISH
X-ORIGINAL-URL:https://kodachromebabies.com
X-WR-CALDESC:Events for The Kodachrome Babies
REFRESH-INTERVAL;VALUE=DURATION:PT1H
X-Robots-Tag:noindex
X-PUBLISHED-TTL:PT1H
BEGIN:VTIMEZONE
TZID:America/New_York
BEGIN:DAYLIGHT
TZOFFSETFROM:-0500
TZOFFSETTO:-0400
TZNAME:EDT
DTSTART:20150308T070000
END:DAYLIGHT
BEGIN:STANDARD
TZOFFSETFROM:-0400
TZOFFSETTO:-0500
TZNAME:EST
DTSTART:20151101T060000
END:STANDARD
BEGIN:DAYLIGHT
TZOFFSETFROM:-0500
TZOFFSETTO:-0400
TZNAME:EDT
DTSTART:20160313T070000
END:DAYLIGHT
BEGIN:STANDARD
TZOFFSETFROM:-0400
TZOFFSETTO:-0500
TZNAME:EST
DTSTART:20161106T060000
END:STANDARD
BEGIN:DAYLIGHT
TZOFFSETFROM:-0500
TZOFFSETTO:-0400
TZNAME:EDT
DTSTART:20170312T070000
END:DAYLIGHT
BEGIN:STANDARD
TZOFFSETFROM:-0400
TZOFFSETTO:-0500
TZNAME:EST
DTSTART:20171105T060000
END:STANDARD
END:VTIMEZONE
BEGIN:VEVENT
DTSTART;TZID=America/New_York:20160914T180000
DTEND;TZID=America/New_York:20160914T200000
DTSTAMP:20260423T095153
CREATED:20160614T171003Z
LAST-MODIFIED:20160907T002535Z
UID:1054-1473876000-1473883200@kodachromebabies.com
SUMMARY:Tuscarawas Valley Farmers Market
DESCRIPTION:We just can’t get enough of the Tuscarawas Valley Farmers Market\, which is why we’re coming back again on Wednesday\, September 14th! If you’re looking for fresh\, locally produced goods\, this is the place to be! Come do your shopping for the week\, then hang out with us as we play tunes for the shoppers and vendors from 5:00 to 7:00 p.m.
URL:https://kodachromebabies.com/event/tuscarawas-valley-farmers-market-6/
LOCATION:Tuscarawas County Fairgrounds\, 259 South Tuscarawas Avenue\, Dover\, OH\, 44622\, United States
END:VEVENT
END:VCALENDAR