BEGIN:VCALENDAR
VERSION:2.0
PRODID:-//The Kodachrome Babies - ECPv6.15.20//NONSGML v1.0//EN
CALSCALE:GREGORIAN
METHOD:PUBLISH
X-WR-CALNAME:The Kodachrome Babies
X-ORIGINAL-URL:https://kodachromebabies.com
X-WR-CALDESC:Events for The Kodachrome Babies
REFRESH-INTERVAL;VALUE=DURATION:PT1H
X-Robots-Tag:noindex
X-PUBLISHED-TTL:PT1H
BEGIN:VTIMEZONE
TZID:America/New_York
BEGIN:DAYLIGHT
TZOFFSETFROM:-0500
TZOFFSETTO:-0400
TZNAME:EDT
DTSTART:20150308T070000
END:DAYLIGHT
BEGIN:STANDARD
TZOFFSETFROM:-0400
TZOFFSETTO:-0500
TZNAME:EST
DTSTART:20151101T060000
END:STANDARD
BEGIN:DAYLIGHT
TZOFFSETFROM:-0500
TZOFFSETTO:-0400
TZNAME:EDT
DTSTART:20160313T070000
END:DAYLIGHT
BEGIN:STANDARD
TZOFFSETFROM:-0400
TZOFFSETTO:-0500
TZNAME:EST
DTSTART:20161106T060000
END:STANDARD
BEGIN:DAYLIGHT
TZOFFSETFROM:-0500
TZOFFSETTO:-0400
TZNAME:EDT
DTSTART:20170312T070000
END:DAYLIGHT
BEGIN:STANDARD
TZOFFSETFROM:-0400
TZOFFSETTO:-0500
TZNAME:EST
DTSTART:20171105T060000
END:STANDARD
END:VTIMEZONE
BEGIN:VEVENT
DTSTART;TZID=America/New_York:20160812T193000
DTEND;TZID=America/New_York:20160812T220000
DTSTAMP:20260423T081745
CREATED:20160808T011958Z
LAST-MODIFIED:20160808T012053Z
UID:1062-1471030200-1471039200@kodachromebabies.com
SUMMARY:Huff Run Watershed Restoration Partnership 20th Anniversary Celebration
DESCRIPTION:Join the Kodachrome Babies at the Zoar School House on Friday\, August 12th as we help the Huff Run Watershed Restoration Partnership celebrate 20 years of a cleaner stream! The event runs from 5:30 to 10:00 p.m.\, and we’ll be entertaining guests from 6:30 to 9:00 p.m. \nAs part of the celebration\, there will be a groundbreaking ceremony at the new channel of Huff Run at 5:30 p.m.\, and anytime after 6:00 p.m. guests can enjoy heavy appetizers\, refreshments\, and informational and photo displays at the Zoar School House\, where we’ll be performing. \nAn RSVP is appreciated but not required. For more information\, click here.
URL:https://kodachromebabies.com/event/huff-run-watershed-restoration-partnership-20th-anniversary-celebration/
LOCATION:Zoar School House\, 160 3rd Street\, Bolivar\, OH\, 44612\, United States
END:VEVENT
END:VCALENDAR