BEGIN:VCALENDAR
VERSION:2.0
PRODID:-//The Kodachrome Babies - ECPv6.15.20//NONSGML v1.0//EN
CALSCALE:GREGORIAN
METHOD:PUBLISH
X-WR-CALNAME:The Kodachrome Babies
X-ORIGINAL-URL:https://kodachromebabies.com
X-WR-CALDESC:Events for The Kodachrome Babies
REFRESH-INTERVAL;VALUE=DURATION:PT1H
X-Robots-Tag:noindex
X-PUBLISHED-TTL:PT1H
BEGIN:VTIMEZONE
TZID:America/New_York
BEGIN:DAYLIGHT
TZOFFSETFROM:-0500
TZOFFSETTO:-0400
TZNAME:EDT
DTSTART:20150308T070000
END:DAYLIGHT
BEGIN:STANDARD
TZOFFSETFROM:-0400
TZOFFSETTO:-0500
TZNAME:EST
DTSTART:20151101T060000
END:STANDARD
BEGIN:DAYLIGHT
TZOFFSETFROM:-0500
TZOFFSETTO:-0400
TZNAME:EDT
DTSTART:20160313T070000
END:DAYLIGHT
BEGIN:STANDARD
TZOFFSETFROM:-0400
TZOFFSETTO:-0500
TZNAME:EST
DTSTART:20161106T060000
END:STANDARD
BEGIN:DAYLIGHT
TZOFFSETFROM:-0500
TZOFFSETTO:-0400
TZNAME:EDT
DTSTART:20170312T070000
END:DAYLIGHT
BEGIN:STANDARD
TZOFFSETFROM:-0400
TZOFFSETTO:-0500
TZNAME:EST
DTSTART:20171105T060000
END:STANDARD
END:VTIMEZONE
BEGIN:VEVENT
DTSTART;TZID=America/New_York:20160806T203000
DTEND;TZID=America/New_York:20160806T213000
DTSTAMP:20260423T064859
CREATED:20160806T201214Z
LAST-MODIFIED:20160806T201334Z
UID:1061-1470515400-1470519000@kodachromebabies.com
SUMMARY:Run for Gnome
DESCRIPTION:Join the Kodachrome Babies and our buds from Valleytown at the Run for Gnome 2k taking place in Sugarcreek on Saturday\, August 6th! The race begins at Rise Fitness at 7:00 p.m. and ends at Park Street Pizza\, where we’ll entertain the crowd from 7:30 to 8:30 p.m. and Valleytown will perform from 8:30 to 9:30 p.m. And if you stick around\, there will be a fireworks display at the end of the evening! Come on out for an evening of summer fun!
URL:https://kodachromebabies.com/event/run-for-gnome/
END:VEVENT
END:VCALENDAR