BEGIN:VCALENDAR
VERSION:2.0
PRODID:-//The Kodachrome Babies - ECPv6.15.20//NONSGML v1.0//EN
CALSCALE:GREGORIAN
METHOD:PUBLISH
X-WR-CALNAME:The Kodachrome Babies
X-ORIGINAL-URL:https://kodachromebabies.com
X-WR-CALDESC:Events for The Kodachrome Babies
REFRESH-INTERVAL;VALUE=DURATION:PT1H
X-Robots-Tag:noindex
X-PUBLISHED-TTL:PT1H
BEGIN:VTIMEZONE
TZID:America/New_York
BEGIN:DAYLIGHT
TZOFFSETFROM:-0500
TZOFFSETTO:-0400
TZNAME:EDT
DTSTART:20150308T070000
END:DAYLIGHT
BEGIN:STANDARD
TZOFFSETFROM:-0400
TZOFFSETTO:-0500
TZNAME:EST
DTSTART:20151101T060000
END:STANDARD
BEGIN:DAYLIGHT
TZOFFSETFROM:-0500
TZOFFSETTO:-0400
TZNAME:EDT
DTSTART:20160313T070000
END:DAYLIGHT
BEGIN:STANDARD
TZOFFSETFROM:-0400
TZOFFSETTO:-0500
TZNAME:EST
DTSTART:20161106T060000
END:STANDARD
BEGIN:DAYLIGHT
TZOFFSETFROM:-0500
TZOFFSETTO:-0400
TZNAME:EDT
DTSTART:20170312T070000
END:DAYLIGHT
BEGIN:STANDARD
TZOFFSETFROM:-0400
TZOFFSETTO:-0500
TZNAME:EST
DTSTART:20171105T060000
END:STANDARD
END:VTIMEZONE
BEGIN:VEVENT
DTSTART;TZID=America/New_York:20160423T190000
DTEND;TZID=America/New_York:20160423T230000
DTSTAMP:20260423T021911
CREATED:20160411T233023Z
LAST-MODIFIED:20160411T233136Z
UID:1031-1461438000-1461452400@kodachromebabies.com
SUMMARY:Collage Art Show
DESCRIPTION:The Kodachrome Babies have been invited to participate in the Collage Art Show at the Sraddha Coffee Roasting Company in Dover on Saturday\, April 23rd from 6:00 to 10:00 p.m. Come order up some coffee and food and enjoy live music and collage-themed art by local artists. We’ll be playing from 8:00 to 9:00\, but art will be displayed all evening from 6:00 to 10:00 p.m. We’d love to see you there!
URL:https://kodachromebabies.com/event/collage-art-show/
LOCATION:Sraddha Coffee Roasting Company\, 340 Oxford Street\, Suite 120\, Dover\, OH\, 44622\, United States
END:VEVENT
END:VCALENDAR