BEGIN:VCALENDAR
VERSION:2.0
PRODID:-//The Kodachrome Babies - ECPv6.15.20//NONSGML v1.0//EN
CALSCALE:GREGORIAN
METHOD:PUBLISH
X-ORIGINAL-URL:https://kodachromebabies.com
X-WR-CALDESC:Events for The Kodachrome Babies
REFRESH-INTERVAL;VALUE=DURATION:PT1H
X-Robots-Tag:noindex
X-PUBLISHED-TTL:PT1H
BEGIN:VTIMEZONE
TZID:America/New_York
BEGIN:DAYLIGHT
TZOFFSETFROM:-0500
TZOFFSETTO:-0400
TZNAME:EDT
DTSTART:20150308T070000
END:DAYLIGHT
BEGIN:STANDARD
TZOFFSETFROM:-0400
TZOFFSETTO:-0500
TZNAME:EST
DTSTART:20151101T060000
END:STANDARD
BEGIN:DAYLIGHT
TZOFFSETFROM:-0500
TZOFFSETTO:-0400
TZNAME:EDT
DTSTART:20160313T070000
END:DAYLIGHT
BEGIN:STANDARD
TZOFFSETFROM:-0400
TZOFFSETTO:-0500
TZNAME:EST
DTSTART:20161106T060000
END:STANDARD
BEGIN:DAYLIGHT
TZOFFSETFROM:-0500
TZOFFSETTO:-0400
TZNAME:EDT
DTSTART:20170312T070000
END:DAYLIGHT
BEGIN:STANDARD
TZOFFSETFROM:-0400
TZOFFSETTO:-0500
TZNAME:EST
DTSTART:20171105T060000
END:STANDARD
END:VTIMEZONE
BEGIN:VEVENT
DTSTART;TZID=America/New_York:20160319T220000
DTEND;TZID=America/New_York:20160319T220000
DTSTAMP:20260423T005014
CREATED:20160313T180538Z
LAST-MODIFIED:20160313T180809Z
UID:1027-1458424800-1458424800@kodachromebabies.com
SUMMARY:Bud and Tooties
DESCRIPTION:The Kodachrome Babies are back at Bud and Tooties in New Philadelphia on Saturday\, March 19th from 9:00 p.m. to midnight. Join us as we return to Bud’s for a night of sweet sisterly harmonies at this great local venue. Grab a drink and sing along with us!
URL:https://kodachromebabies.com/event/bud-n-tooties/
LOCATION:Bud and Tooties\, 601 W. High Avenue\, New Philadelphia\, OH\, 44663\, United States
END:VEVENT
END:VCALENDAR