BEGIN:VCALENDAR
VERSION:2.0
PRODID:-//The Kodachrome Babies - ECPv6.15.20//NONSGML v1.0//EN
CALSCALE:GREGORIAN
METHOD:PUBLISH
X-WR-CALNAME:The Kodachrome Babies
X-ORIGINAL-URL:https://kodachromebabies.com
X-WR-CALDESC:Events for The Kodachrome Babies
REFRESH-INTERVAL;VALUE=DURATION:PT1H
X-Robots-Tag:noindex
X-PUBLISHED-TTL:PT1H
BEGIN:VTIMEZONE
TZID:America/New_York
BEGIN:DAYLIGHT
TZOFFSETFROM:-0500
TZOFFSETTO:-0400
TZNAME:EDT
DTSTART:20150308T070000
END:DAYLIGHT
BEGIN:STANDARD
TZOFFSETFROM:-0400
TZOFFSETTO:-0500
TZNAME:EST
DTSTART:20151101T060000
END:STANDARD
BEGIN:DAYLIGHT
TZOFFSETFROM:-0500
TZOFFSETTO:-0400
TZNAME:EDT
DTSTART:20160313T070000
END:DAYLIGHT
BEGIN:STANDARD
TZOFFSETFROM:-0400
TZOFFSETTO:-0500
TZNAME:EST
DTSTART:20161106T060000
END:STANDARD
BEGIN:DAYLIGHT
TZOFFSETFROM:-0500
TZOFFSETTO:-0400
TZNAME:EDT
DTSTART:20170312T070000
END:DAYLIGHT
BEGIN:STANDARD
TZOFFSETFROM:-0400
TZOFFSETTO:-0500
TZNAME:EST
DTSTART:20171105T060000
END:STANDARD
END:VTIMEZONE
BEGIN:VEVENT
DTSTART;TZID=America/New_York:20160123T180000
DTEND;TZID=America/New_York:20160123T193000
DTSTAMP:20260422T202737
CREATED:20160113T224638Z
LAST-MODIFIED:20160113T224638Z
UID:1019-1453572000-1453577400@kodachromebabies.com
SUMMARY:TCCES Casino Night
DESCRIPTION:Join the Kodachrome Babies for the 3rd Annual Casino Night at Tuscarawas Central Catholic Elementary School on Saturday\, January 23rd. The event will be held in the gymnasium from 6:00 to 10:00 p.m. and will include appetizers\, games of chance\, a silent auction\, and a cash bar. We’ll be singing tunes to the gamblers from 6:00 to 7:30 p.m.\, so come early and sing along! If you’d like to join the fun\, contact Sarah Sciarretti for reservations at 330-364-2681 or sciarrettis@yahoo.com. The cost is $10 per person\, and all reservations must be made by January 18th. Are you feeling lucky? Hope to see you there!
URL:https://kodachromebabies.com/event/tcces-casino-night/
LOCATION:Tuscarawas Central Catholic Elementary School\, 600 N. Tuscarawas Avenue\, Dover\, OH\, 44622\, United States
END:VEVENT
END:VCALENDAR