BEGIN:VCALENDAR
VERSION:2.0
PRODID:-//The Kodachrome Babies - ECPv6.15.20//NONSGML v1.0//EN
CALSCALE:GREGORIAN
METHOD:PUBLISH
X-ORIGINAL-URL:https://kodachromebabies.com
X-WR-CALDESC:Events for The Kodachrome Babies
REFRESH-INTERVAL;VALUE=DURATION:PT1H
X-Robots-Tag:noindex
X-PUBLISHED-TTL:PT1H
BEGIN:VTIMEZONE
TZID:America/New_York
BEGIN:DAYLIGHT
TZOFFSETFROM:-0500
TZOFFSETTO:-0400
TZNAME:EDT
DTSTART:20150308T070000
END:DAYLIGHT
BEGIN:STANDARD
TZOFFSETFROM:-0400
TZOFFSETTO:-0500
TZNAME:EST
DTSTART:20151101T060000
END:STANDARD
BEGIN:DAYLIGHT
TZOFFSETFROM:-0500
TZOFFSETTO:-0400
TZNAME:EDT
DTSTART:20160313T070000
END:DAYLIGHT
BEGIN:STANDARD
TZOFFSETFROM:-0400
TZOFFSETTO:-0500
TZNAME:EST
DTSTART:20161106T060000
END:STANDARD
BEGIN:DAYLIGHT
TZOFFSETFROM:-0500
TZOFFSETTO:-0400
TZNAME:EDT
DTSTART:20170312T070000
END:DAYLIGHT
BEGIN:STANDARD
TZOFFSETFROM:-0400
TZOFFSETTO:-0500
TZNAME:EST
DTSTART:20171105T060000
END:STANDARD
END:VTIMEZONE
BEGIN:VEVENT
DTSTART;TZID=America/New_York:20160107T190000
DTEND;TZID=America/New_York:20160107T190000
DTSTAMP:20260422T203215
CREATED:20151203T212100Z
LAST-MODIFIED:20160105T040141Z
UID:1007-1452193200-1452193200@kodachromebabies.com
SUMMARY:NPHS January Jam Guitar Concert
DESCRIPTION:The Kodachrome Babies are incredibly honored to have been invited to perform at New Philadelphia High School’s January Jam Guitar Concert on Thursday\, January 7th at 7:00 p.m. in the Welty Middle School Auditorium! We’ll be joining students of the NPHS guitar program to perform a song\, and then we’ll play a few of our own. It’s going to be SO much fun! Hope to see you there!
URL:https://kodachromebabies.com/event/nphs-january-jam-guitar-concert/
LOCATION:Welty Middle School Auditorium\, 315 4th Street NW\, New Philadelphia\, 44663
END:VEVENT
END:VCALENDAR