BEGIN:VCALENDAR
VERSION:2.0
PRODID:-//The Kodachrome Babies - ECPv6.15.20//NONSGML v1.0//EN
CALSCALE:GREGORIAN
METHOD:PUBLISH
X-ORIGINAL-URL:https://kodachromebabies.com
X-WR-CALDESC:Events for The Kodachrome Babies
REFRESH-INTERVAL;VALUE=DURATION:PT1H
X-Robots-Tag:noindex
X-PUBLISHED-TTL:PT1H
BEGIN:VTIMEZONE
TZID:America/New_York
BEGIN:DAYLIGHT
TZOFFSETFROM:-0500
TZOFFSETTO:-0400
TZNAME:EDT
DTSTART:20140309T070000
END:DAYLIGHT
BEGIN:STANDARD
TZOFFSETFROM:-0400
TZOFFSETTO:-0500
TZNAME:EST
DTSTART:20141102T060000
END:STANDARD
BEGIN:DAYLIGHT
TZOFFSETFROM:-0500
TZOFFSETTO:-0400
TZNAME:EDT
DTSTART:20150308T070000
END:DAYLIGHT
BEGIN:STANDARD
TZOFFSETFROM:-0400
TZOFFSETTO:-0500
TZNAME:EST
DTSTART:20151101T060000
END:STANDARD
BEGIN:DAYLIGHT
TZOFFSETFROM:-0500
TZOFFSETTO:-0400
TZNAME:EDT
DTSTART:20160313T070000
END:DAYLIGHT
BEGIN:STANDARD
TZOFFSETFROM:-0400
TZOFFSETTO:-0500
TZNAME:EST
DTSTART:20161106T060000
END:STANDARD
END:VTIMEZONE
BEGIN:VEVENT
DTSTART;TZID=America/New_York:20151208T180000
DTEND;TZID=America/New_York:20151208T193000
DTSTAMP:20260422T191616
CREATED:20151203T211426Z
LAST-MODIFIED:20151203T211426Z
UID:1005-1449597600-1449603000@kodachromebabies.com
SUMMARY:Holiday Business After Hours
DESCRIPTION:The Kodachrome Babies and special guest bassist Alonzo Parrish will entertain guests at the Tuscarawas County Chamber of Commerce’s Holiday Business After Hours at the Dennison Railroad Depot Museum on Tuesday\, December 8th. The event runs from 4:30 to 7:30 p.m.\, but we’ll keep things festive with some holiday tunes (and a few of our regular tunes\, too!) from 6:00 to 7:30 p.m. Tickets for the event are $10.
URL:https://kodachromebabies.com/event/holiday-business-after-hours/
LOCATION:Dennison Railroad Depot Museum\, 400 Center Street\,  Dennison\, OH\, 44622\, United States
END:VEVENT
END:VCALENDAR