BEGIN:VCALENDAR
VERSION:2.0
PRODID:-//The Kodachrome Babies - ECPv6.15.20//NONSGML v1.0//EN
CALSCALE:GREGORIAN
METHOD:PUBLISH
X-ORIGINAL-URL:https://kodachromebabies.com
X-WR-CALDESC:Events for The Kodachrome Babies
REFRESH-INTERVAL;VALUE=DURATION:PT1H
X-Robots-Tag:noindex
X-PUBLISHED-TTL:PT1H
BEGIN:VTIMEZONE
TZID:America/New_York
BEGIN:DAYLIGHT
TZOFFSETFROM:-0500
TZOFFSETTO:-0400
TZNAME:EDT
DTSTART:20140309T070000
END:DAYLIGHT
BEGIN:STANDARD
TZOFFSETFROM:-0400
TZOFFSETTO:-0500
TZNAME:EST
DTSTART:20141102T060000
END:STANDARD
BEGIN:DAYLIGHT
TZOFFSETFROM:-0500
TZOFFSETTO:-0400
TZNAME:EDT
DTSTART:20150308T070000
END:DAYLIGHT
BEGIN:STANDARD
TZOFFSETFROM:-0400
TZOFFSETTO:-0500
TZNAME:EST
DTSTART:20151101T060000
END:STANDARD
BEGIN:DAYLIGHT
TZOFFSETFROM:-0500
TZOFFSETTO:-0400
TZNAME:EDT
DTSTART:20160313T070000
END:DAYLIGHT
BEGIN:STANDARD
TZOFFSETFROM:-0400
TZOFFSETTO:-0500
TZNAME:EST
DTSTART:20161106T060000
END:STANDARD
END:VTIMEZONE
BEGIN:VEVENT
DTSTART;TZID=America/New_York:20151114T130000
DTEND;TZID=America/New_York:20151114T143000
DTSTAMP:20260422T173952
CREATED:20150926T013742Z
LAST-MODIFIED:20151103T232108Z
UID:981-1447506000-1447511400@kodachromebabies.com
SUMMARY:Share-A-Christmas Restaurant War
DESCRIPTION:Come out to “A Bite and a Show” – The Share-A-Christmas Restaurant War on Saturday\, November 14th from noon to 3:00 p.m. at the Park Place Teen Center at Tuscora Park in New Philadelphia. Not only with the event feature live music by yours truly from 1:00 to 2:30 p.m.\, but those who attend can participate in the annual Restaurant War\, enter for a chance to win door prizes\, and purchase lunch…all to benefit the local Share-A-Christmas program! Hope you can join us! \nFor detailed information\, visit their Facebook page.
URL:https://kodachromebabies.com/event/share-a-christmas-restaurant-war/
LOCATION:Park Place Teen Center\, 161 Tuscora Ave NW\, New Philadelphia\, OH\, 44663\, United States
END:VEVENT
END:VCALENDAR