BEGIN:VCALENDAR
VERSION:2.0
PRODID:-//The Kodachrome Babies - ECPv6.15.20//NONSGML v1.0//EN
CALSCALE:GREGORIAN
METHOD:PUBLISH
X-WR-CALNAME:The Kodachrome Babies
X-ORIGINAL-URL:https://kodachromebabies.com
X-WR-CALDESC:Events for The Kodachrome Babies
REFRESH-INTERVAL;VALUE=DURATION:PT1H
X-Robots-Tag:noindex
X-PUBLISHED-TTL:PT1H
BEGIN:VTIMEZONE
TZID:America/New_York
BEGIN:DAYLIGHT
TZOFFSETFROM:-0500
TZOFFSETTO:-0400
TZNAME:EDT
DTSTART:20140309T070000
END:DAYLIGHT
BEGIN:STANDARD
TZOFFSETFROM:-0400
TZOFFSETTO:-0500
TZNAME:EST
DTSTART:20141102T060000
END:STANDARD
BEGIN:DAYLIGHT
TZOFFSETFROM:-0500
TZOFFSETTO:-0400
TZNAME:EDT
DTSTART:20150308T070000
END:DAYLIGHT
BEGIN:STANDARD
TZOFFSETFROM:-0400
TZOFFSETTO:-0500
TZNAME:EST
DTSTART:20151101T060000
END:STANDARD
BEGIN:DAYLIGHT
TZOFFSETFROM:-0500
TZOFFSETTO:-0400
TZNAME:EDT
DTSTART:20160313T070000
END:DAYLIGHT
BEGIN:STANDARD
TZOFFSETFROM:-0400
TZOFFSETTO:-0500
TZNAME:EST
DTSTART:20161106T060000
END:STANDARD
END:VTIMEZONE
BEGIN:VEVENT
DTSTART;TZID=America/New_York:20151007T180000
DTEND;TZID=America/New_York:20151007T200000
DTSTAMP:20260422T161141
CREATED:20150622T215411Z
LAST-MODIFIED:20150622T220102Z
UID:936-1444240800-1444248000@kodachromebabies.com
SUMMARY:Tuscarawas Valley Farmers Market
DESCRIPTION:Our last scheduled performance of the 2015 season! Come to the Tuscarawas Valley Farmers Market at the Fairgrounds in Dover on Wednesday\, October 7th from 5:00 to 7:00 p.m. for our last performance at this year’s market. But don’t worry…if history is any indication\, we have a sneaking suspicion we’ll be back at the market again in 2016! Come get your veggies and sing along with your favorite sister duo!
URL:https://kodachromebabies.com/event/tuscarawas-valley-farmers-market-2/
LOCATION:Tuscarawas County Fairgrounds\, 259 South Tuscarawas Avenue\, Dover\, OH\, 44622\, United States
END:VEVENT
END:VCALENDAR