BEGIN:VCALENDAR
VERSION:2.0
PRODID:-//The Kodachrome Babies - ECPv6.15.20//NONSGML v1.0//EN
CALSCALE:GREGORIAN
METHOD:PUBLISH
X-WR-CALNAME:The Kodachrome Babies
X-ORIGINAL-URL:https://kodachromebabies.com
X-WR-CALDESC:Events for The Kodachrome Babies
REFRESH-INTERVAL;VALUE=DURATION:PT1H
X-Robots-Tag:noindex
X-PUBLISHED-TTL:PT1H
BEGIN:VTIMEZONE
TZID:America/New_York
BEGIN:DAYLIGHT
TZOFFSETFROM:-0500
TZOFFSETTO:-0400
TZNAME:EDT
DTSTART:20140309T070000
END:DAYLIGHT
BEGIN:STANDARD
TZOFFSETFROM:-0400
TZOFFSETTO:-0500
TZNAME:EST
DTSTART:20141102T060000
END:STANDARD
BEGIN:DAYLIGHT
TZOFFSETFROM:-0500
TZOFFSETTO:-0400
TZNAME:EDT
DTSTART:20150308T070000
END:DAYLIGHT
BEGIN:STANDARD
TZOFFSETFROM:-0400
TZOFFSETTO:-0500
TZNAME:EST
DTSTART:20151101T060000
END:STANDARD
BEGIN:DAYLIGHT
TZOFFSETFROM:-0500
TZOFFSETTO:-0400
TZNAME:EDT
DTSTART:20160313T070000
END:DAYLIGHT
BEGIN:STANDARD
TZOFFSETFROM:-0400
TZOFFSETTO:-0500
TZNAME:EST
DTSTART:20161106T060000
END:STANDARD
END:VTIMEZONE
BEGIN:VEVENT
DTSTART;TZID=America/New_York:20150902T180000
DTEND;TZID=America/New_York:20150902T200000
DTSTAMP:20260422T130831
CREATED:20150622T214910Z
LAST-MODIFIED:20150622T220124Z
UID:935-1441216800-1441224000@kodachromebabies.com
SUMMARY:Tuscarawas Valley Farmers Market
DESCRIPTION:This’ll be our third performance at the market this season! Join us at the Tuscarawas County Fairgrounds in Dover from 5:00 to 7:00 p.m. as we sing some familiar and perhaps not-so-familiar tunes as you do your weekly local produce shopping at the Tuscarawas Valley Farmers Market!
URL:https://kodachromebabies.com/event/tuscarawas-valley-farmers-market/
LOCATION:Tuscarawas County Fairgrounds\, 259 South Tuscarawas Avenue\, United States
END:VEVENT
END:VCALENDAR