BEGIN:VCALENDAR
VERSION:2.0
PRODID:-//The Kodachrome Babies - ECPv6.15.20//NONSGML v1.0//EN
CALSCALE:GREGORIAN
METHOD:PUBLISH
X-WR-CALNAME:The Kodachrome Babies
X-ORIGINAL-URL:https://kodachromebabies.com
X-WR-CALDESC:Events for The Kodachrome Babies
REFRESH-INTERVAL;VALUE=DURATION:PT1H
X-Robots-Tag:noindex
X-PUBLISHED-TTL:PT1H
BEGIN:VTIMEZONE
TZID:America/New_York
BEGIN:DAYLIGHT
TZOFFSETFROM:-0500
TZOFFSETTO:-0400
TZNAME:EDT
DTSTART:20140309T070000
END:DAYLIGHT
BEGIN:STANDARD
TZOFFSETFROM:-0400
TZOFFSETTO:-0500
TZNAME:EST
DTSTART:20141102T060000
END:STANDARD
BEGIN:DAYLIGHT
TZOFFSETFROM:-0500
TZOFFSETTO:-0400
TZNAME:EDT
DTSTART:20150308T070000
END:DAYLIGHT
BEGIN:STANDARD
TZOFFSETFROM:-0400
TZOFFSETTO:-0500
TZNAME:EST
DTSTART:20151101T060000
END:STANDARD
BEGIN:DAYLIGHT
TZOFFSETFROM:-0500
TZOFFSETTO:-0400
TZNAME:EDT
DTSTART:20160313T070000
END:DAYLIGHT
BEGIN:STANDARD
TZOFFSETFROM:-0400
TZOFFSETTO:-0500
TZNAME:EST
DTSTART:20161106T060000
END:STANDARD
END:VTIMEZONE
BEGIN:VEVENT
DTSTART;TZID=America/New_York:20150723T190000
DTEND;TZID=America/New_York:20150723T210000
DTSTAMP:20260422T111844
CREATED:20150716T161016Z
LAST-MODIFIED:20150716T161016Z
UID:942-1437678000-1437685200@kodachromebabies.com
SUMMARY:YOLO Winery
DESCRIPTION:The Kodachrome Babies are back at YOLO Winery in downtown Dover on Thursday\, July 23rd from 6:00 to 8:00 p.m.! We had such a great time at YOLO the last time we were there\, we decided to do it again! Join us for some delicious wine after you clock out for the day\, and we’ll sing some lovely tunes for you.
URL:https://kodachromebabies.com/event/yolo-winery-2/
LOCATION:YOLO Winery\, 128 West 2nd St.\, Dover\, OH\, 44622\, United States
END:VEVENT
END:VCALENDAR