BEGIN:VCALENDAR
VERSION:2.0
PRODID:-//The Kodachrome Babies - ECPv6.15.20//NONSGML v1.0//EN
CALSCALE:GREGORIAN
METHOD:PUBLISH
X-WR-CALNAME:The Kodachrome Babies
X-ORIGINAL-URL:https://kodachromebabies.com
X-WR-CALDESC:Events for The Kodachrome Babies
REFRESH-INTERVAL;VALUE=DURATION:PT1H
X-Robots-Tag:noindex
X-PUBLISHED-TTL:PT1H
BEGIN:VTIMEZONE
TZID:America/New_York
BEGIN:DAYLIGHT
TZOFFSETFROM:-0500
TZOFFSETTO:-0400
TZNAME:EDT
DTSTART:20130310T070000
END:DAYLIGHT
BEGIN:STANDARD
TZOFFSETFROM:-0400
TZOFFSETTO:-0500
TZNAME:EST
DTSTART:20131103T060000
END:STANDARD
BEGIN:DAYLIGHT
TZOFFSETFROM:-0500
TZOFFSETTO:-0400
TZNAME:EDT
DTSTART:20140309T070000
END:DAYLIGHT
BEGIN:STANDARD
TZOFFSETFROM:-0400
TZOFFSETTO:-0500
TZNAME:EST
DTSTART:20141102T060000
END:STANDARD
BEGIN:DAYLIGHT
TZOFFSETFROM:-0500
TZOFFSETTO:-0400
TZNAME:EDT
DTSTART:20150308T070000
END:DAYLIGHT
BEGIN:STANDARD
TZOFFSETFROM:-0400
TZOFFSETTO:-0500
TZNAME:EST
DTSTART:20151101T060000
END:STANDARD
END:VTIMEZONE
BEGIN:VEVENT
DTSTART;TZID=America/New_York:20140905T190000
DTEND;TZID=America/New_York:20140905T210000
DTSTAMP:20260421T221029
CREATED:20140825T231036Z
LAST-MODIFIED:20140825T231036Z
UID:834-1409943600-1409950800@kodachromebabies.com
SUMMARY:The BHB Tea Lounge
DESCRIPTION:The Babies will be playing for the first time at the brand new BHB Tea Lounge\, located next door to the Breadhead Bakery in downtown Dover. Join us from 6pm to 8pm for some tea and some tunes!
URL:https://kodachromebabies.com/event/the-bhb-tea-lounge/
LOCATION:BHB Tea Lounge\, 113 W. 3rd St.\, Dover\, OH\, 44622\, United States
END:VEVENT
END:VCALENDAR