BEGIN:VCALENDAR
VERSION:2.0
PRODID:-//The Kodachrome Babies - ECPv6.15.20//NONSGML v1.0//EN
CALSCALE:GREGORIAN
METHOD:PUBLISH
X-ORIGINAL-URL:https://kodachromebabies.com
X-WR-CALDESC:Events for The Kodachrome Babies
REFRESH-INTERVAL;VALUE=DURATION:PT1H
X-Robots-Tag:noindex
X-PUBLISHED-TTL:PT1H
BEGIN:VTIMEZONE
TZID:America/New_York
BEGIN:DAYLIGHT
TZOFFSETFROM:-0500
TZOFFSETTO:-0400
TZNAME:EDT
DTSTART:20130310T070000
END:DAYLIGHT
BEGIN:STANDARD
TZOFFSETFROM:-0400
TZOFFSETTO:-0500
TZNAME:EST
DTSTART:20131103T060000
END:STANDARD
BEGIN:DAYLIGHT
TZOFFSETFROM:-0500
TZOFFSETTO:-0400
TZNAME:EDT
DTSTART:20140309T070000
END:DAYLIGHT
BEGIN:STANDARD
TZOFFSETFROM:-0400
TZOFFSETTO:-0500
TZNAME:EST
DTSTART:20141102T060000
END:STANDARD
BEGIN:DAYLIGHT
TZOFFSETFROM:-0500
TZOFFSETTO:-0400
TZNAME:EDT
DTSTART:20150308T070000
END:DAYLIGHT
BEGIN:STANDARD
TZOFFSETFROM:-0400
TZOFFSETTO:-0500
TZNAME:EST
DTSTART:20151101T060000
END:STANDARD
END:VTIMEZONE
BEGIN:VEVENT
DTSTART;TZID=America/New_York:20140628T210000
DTEND;TZID=America/New_York:20140628T210000
DTSTAMP:20260421T185307
CREATED:20140602T225058Z
LAST-MODIFIED:20140604T110816Z
UID:808-1403989200-1403989200@kodachromebabies.com
SUMMARY:Kodachrome Babies and Friends at George's Lounge
DESCRIPTION:The Kodachrome Babies are headed back to George’s Lounge in Canton for another fun night of music with friends! Here’s the event lineup: \n8:00 – 8:45 p.m.: Kristy Lee Burky \n9:00 – 9:45 p.m.: Kodachrome Babies \n10:00 – 10:45 p.m.: Allen & Kimberly \n11:00 – 11:45 p.m.: Sherwood \n12:00 – 12:45 a.m.: Matt Durfee & The Rattling Baddies (touring from Albany\, NY) \nJoin us as we eat yummy burgers\, drink yummy beer\, and sing yummy tunes!
URL:https://kodachromebabies.com/event/kodachrome-babies-and-friends-at-georges-lounge/
LOCATION:George’s Lounge\, 229 Cleveland Avenue NW\, Canton\, OH\, 44702\, United States
END:VEVENT
END:VCALENDAR